BEGIN:VCALENDAR
VERSION:2.0
PRODID:-//Terenure Swimming Pool - ECPv6.15.20//NONSGML v1.0//EN
CALSCALE:GREGORIAN
METHOD:PUBLISH
X-WR-CALNAME:Terenure Swimming Pool
X-ORIGINAL-URL:https://terenureswimmingpool.ie
X-WR-CALDESC:Events for Terenure Swimming Pool
REFRESH-INTERVAL;VALUE=DURATION:PT1H
X-Robots-Tag:noindex
X-PUBLISHED-TTL:PT1H
BEGIN:VTIMEZONE
TZID:Europe/Dublin
BEGIN:STANDARD
TZOFFSETFROM:+0000
TZOFFSETTO:+0100
TZNAME:IST
DTSTART:20260329T010000
END:STANDARD
BEGIN:DAYLIGHT
TZOFFSETFROM:+0100
TZOFFSETTO:+0000
TZNAME:GMT
DTSTART:20261025T010000
END:DAYLIGHT
BEGIN:STANDARD
TZOFFSETFROM:+0000
TZOFFSETTO:+0100
TZNAME:IST
DTSTART:20270328T010000
END:STANDARD
BEGIN:DAYLIGHT
TZOFFSETFROM:+0100
TZOFFSETTO:+0000
TZNAME:GMT
DTSTART:20271031T010000
END:DAYLIGHT
BEGIN:STANDARD
TZOFFSETFROM:+0000
TZOFFSETTO:+0100
TZNAME:IST
DTSTART:20280326T010000
END:STANDARD
BEGIN:DAYLIGHT
TZOFFSETFROM:+0100
TZOFFSETTO:+0000
TZNAME:GMT
DTSTART:20281029T010000
END:DAYLIGHT
BEGIN:STANDARD
TZOFFSETFROM:+0000
TZOFFSETTO:+0100
TZNAME:IST
DTSTART:20290325T010000
END:STANDARD
BEGIN:DAYLIGHT
TZOFFSETFROM:+0100
TZOFFSETTO:+0000
TZNAME:GMT
DTSTART:20291028T010000
END:DAYLIGHT
END:VTIMEZONE
BEGIN:VEVENT
DTSTART;TZID=Europe/Dublin:20271227T090000
DTEND;TZID=Europe/Dublin:20271227T100000
DTSTAMP:20260423T203259
CREATED:20260127T153017Z
LAST-MODIFIED:20260127T153017Z
UID:10000694-1829898000-1829901600@terenureswimmingpool.ie
SUMMARY:Free Swim
DESCRIPTION:
URL:https://terenureswimmingpool.ie/timetable/free-swim/2027-12-27/
LOCATION:Terenure College Swimming Pool
END:VEVENT
BEGIN:VEVENT
DTSTART;TZID=Europe/Dublin:20271228T090000
DTEND;TZID=Europe/Dublin:20271228T100000
DTSTAMP:20260423T203259
CREATED:20260127T153017Z
LAST-MODIFIED:20260127T153017Z
UID:10000695-1829984400-1829988000@terenureswimmingpool.ie
SUMMARY:Free Swim
DESCRIPTION:
URL:https://terenureswimmingpool.ie/timetable/free-swim/2027-12-28/
LOCATION:Terenure College Swimming Pool
END:VEVENT
BEGIN:VEVENT
DTSTART;TZID=Europe/Dublin:20271229T090000
DTEND;TZID=Europe/Dublin:20271229T100000
DTSTAMP:20260423T203259
CREATED:20260127T153017Z
LAST-MODIFIED:20260127T153017Z
UID:10000696-1830070800-1830074400@terenureswimmingpool.ie
SUMMARY:Free Swim
DESCRIPTION:
URL:https://terenureswimmingpool.ie/timetable/free-swim/2027-12-29/
LOCATION:Terenure College Swimming Pool
END:VEVENT
BEGIN:VEVENT
DTSTART;TZID=Europe/Dublin:20271230T090000
DTEND;TZID=Europe/Dublin:20271230T100000
DTSTAMP:20260423T203259
CREATED:20260127T153017Z
LAST-MODIFIED:20260127T153017Z
UID:10000697-1830157200-1830160800@terenureswimmingpool.ie
SUMMARY:Free Swim
DESCRIPTION:
URL:https://terenureswimmingpool.ie/timetable/free-swim/2027-12-30/
LOCATION:Terenure College Swimming Pool
END:VEVENT
BEGIN:VEVENT
DTSTART;TZID=Europe/Dublin:20271231T090000
DTEND;TZID=Europe/Dublin:20271231T100000
DTSTAMP:20260423T203259
CREATED:20260127T153017Z
LAST-MODIFIED:20260127T153017Z
UID:10000698-1830243600-1830247200@terenureswimmingpool.ie
SUMMARY:Free Swim
DESCRIPTION:
URL:https://terenureswimmingpool.ie/timetable/free-swim/2027-12-31/
LOCATION:Terenure College Swimming Pool
END:VEVENT
BEGIN:VEVENT
DTSTART;TZID=Europe/Dublin:20280101T090000
DTEND;TZID=Europe/Dublin:20280101T100000
DTSTAMP:20260423T203259
CREATED:20260127T153017Z
LAST-MODIFIED:20260127T153017Z
UID:10000699-1830330000-1830333600@terenureswimmingpool.ie
SUMMARY:Free Swim
DESCRIPTION:
URL:https://terenureswimmingpool.ie/timetable/free-swim/2028-01-01/
LOCATION:Terenure College Swimming Pool
END:VEVENT
BEGIN:VEVENT
DTSTART;TZID=Europe/Dublin:20280102T090000
DTEND;TZID=Europe/Dublin:20280102T100000
DTSTAMP:20260423T203259
CREATED:20260127T153017Z
LAST-MODIFIED:20260127T153017Z
UID:10000700-1830416400-1830420000@terenureswimmingpool.ie
SUMMARY:Free Swim
DESCRIPTION:
URL:https://terenureswimmingpool.ie/timetable/free-swim/2028-01-02/
LOCATION:Terenure College Swimming Pool
END:VEVENT
BEGIN:VEVENT
DTSTART;TZID=Europe/Dublin:20280103T090000
DTEND;TZID=Europe/Dublin:20280103T100000
DTSTAMP:20260423T203259
CREATED:20260127T153017Z
LAST-MODIFIED:20260127T153017Z
UID:10000701-1830502800-1830506400@terenureswimmingpool.ie
SUMMARY:Free Swim
DESCRIPTION:
URL:https://terenureswimmingpool.ie/timetable/free-swim/2028-01-03/
LOCATION:Terenure College Swimming Pool
END:VEVENT
BEGIN:VEVENT
DTSTART;TZID=Europe/Dublin:20280104T090000
DTEND;TZID=Europe/Dublin:20280104T100000
DTSTAMP:20260423T203259
CREATED:20260127T153017Z
LAST-MODIFIED:20260127T153017Z
UID:10000702-1830589200-1830592800@terenureswimmingpool.ie
SUMMARY:Free Swim
DESCRIPTION:
URL:https://terenureswimmingpool.ie/timetable/free-swim/2028-01-04/
LOCATION:Terenure College Swimming Pool
END:VEVENT
BEGIN:VEVENT
DTSTART;TZID=Europe/Dublin:20280105T090000
DTEND;TZID=Europe/Dublin:20280105T100000
DTSTAMP:20260423T203259
CREATED:20260127T153017Z
LAST-MODIFIED:20260127T153017Z
UID:10000703-1830675600-1830679200@terenureswimmingpool.ie
SUMMARY:Free Swim
DESCRIPTION:
URL:https://terenureswimmingpool.ie/timetable/free-swim/2028-01-05/
LOCATION:Terenure College Swimming Pool
END:VEVENT
BEGIN:VEVENT
DTSTART;TZID=Europe/Dublin:20280106T090000
DTEND;TZID=Europe/Dublin:20280106T100000
DTSTAMP:20260423T203259
CREATED:20260127T153017Z
LAST-MODIFIED:20260127T153017Z
UID:10000704-1830762000-1830765600@terenureswimmingpool.ie
SUMMARY:Free Swim
DESCRIPTION:
URL:https://terenureswimmingpool.ie/timetable/free-swim/2028-01-06/
LOCATION:Terenure College Swimming Pool
END:VEVENT
BEGIN:VEVENT
DTSTART;TZID=Europe/Dublin:20280107T090000
DTEND;TZID=Europe/Dublin:20280107T100000
DTSTAMP:20260423T203259
CREATED:20260127T153017Z
LAST-MODIFIED:20260127T153017Z
UID:10000705-1830848400-1830852000@terenureswimmingpool.ie
SUMMARY:Free Swim
DESCRIPTION:
URL:https://terenureswimmingpool.ie/timetable/free-swim/2028-01-07/
LOCATION:Terenure College Swimming Pool
END:VEVENT
BEGIN:VEVENT
DTSTART;TZID=Europe/Dublin:20280108T090000
DTEND;TZID=Europe/Dublin:20280108T100000
DTSTAMP:20260423T203259
CREATED:20260127T153017Z
LAST-MODIFIED:20260127T153017Z
UID:10000706-1830934800-1830938400@terenureswimmingpool.ie
SUMMARY:Free Swim
DESCRIPTION:
URL:https://terenureswimmingpool.ie/timetable/free-swim/2028-01-08/
LOCATION:Terenure College Swimming Pool
END:VEVENT
BEGIN:VEVENT
DTSTART;TZID=Europe/Dublin:20280109T090000
DTEND;TZID=Europe/Dublin:20280109T100000
DTSTAMP:20260423T203259
CREATED:20260127T153017Z
LAST-MODIFIED:20260127T153017Z
UID:10000707-1831021200-1831024800@terenureswimmingpool.ie
SUMMARY:Free Swim
DESCRIPTION:
URL:https://terenureswimmingpool.ie/timetable/free-swim/2028-01-09/
LOCATION:Terenure College Swimming Pool
END:VEVENT
BEGIN:VEVENT
DTSTART;TZID=Europe/Dublin:20280110T090000
DTEND;TZID=Europe/Dublin:20280110T100000
DTSTAMP:20260423T203259
CREATED:20260127T153017Z
LAST-MODIFIED:20260127T153017Z
UID:10000708-1831107600-1831111200@terenureswimmingpool.ie
SUMMARY:Free Swim
DESCRIPTION:
URL:https://terenureswimmingpool.ie/timetable/free-swim/2028-01-10/
LOCATION:Terenure College Swimming Pool
END:VEVENT
BEGIN:VEVENT
DTSTART;TZID=Europe/Dublin:20280111T090000
DTEND;TZID=Europe/Dublin:20280111T100000
DTSTAMP:20260423T203259
CREATED:20260127T153017Z
LAST-MODIFIED:20260127T153017Z
UID:10000709-1831194000-1831197600@terenureswimmingpool.ie
SUMMARY:Free Swim
DESCRIPTION:
URL:https://terenureswimmingpool.ie/timetable/free-swim/2028-01-11/
LOCATION:Terenure College Swimming Pool
END:VEVENT
BEGIN:VEVENT
DTSTART;TZID=Europe/Dublin:20280112T090000
DTEND;TZID=Europe/Dublin:20280112T100000
DTSTAMP:20260423T203259
CREATED:20260127T153017Z
LAST-MODIFIED:20260127T153017Z
UID:10000710-1831280400-1831284000@terenureswimmingpool.ie
SUMMARY:Free Swim
DESCRIPTION:
URL:https://terenureswimmingpool.ie/timetable/free-swim/2028-01-12/
LOCATION:Terenure College Swimming Pool
END:VEVENT
BEGIN:VEVENT
DTSTART;TZID=Europe/Dublin:20280113T090000
DTEND;TZID=Europe/Dublin:20280113T100000
DTSTAMP:20260423T203259
CREATED:20260127T153017Z
LAST-MODIFIED:20260127T153017Z
UID:10000711-1831366800-1831370400@terenureswimmingpool.ie
SUMMARY:Free Swim
DESCRIPTION:
URL:https://terenureswimmingpool.ie/timetable/free-swim/2028-01-13/
LOCATION:Terenure College Swimming Pool
END:VEVENT
BEGIN:VEVENT
DTSTART;TZID=Europe/Dublin:20280114T090000
DTEND;TZID=Europe/Dublin:20280114T100000
DTSTAMP:20260423T203259
CREATED:20260127T153017Z
LAST-MODIFIED:20260127T153017Z
UID:10000712-1831453200-1831456800@terenureswimmingpool.ie
SUMMARY:Free Swim
DESCRIPTION:
URL:https://terenureswimmingpool.ie/timetable/free-swim/2028-01-14/
LOCATION:Terenure College Swimming Pool
END:VEVENT
BEGIN:VEVENT
DTSTART;TZID=Europe/Dublin:20280115T090000
DTEND;TZID=Europe/Dublin:20280115T100000
DTSTAMP:20260423T203259
CREATED:20260127T153017Z
LAST-MODIFIED:20260127T153017Z
UID:10000713-1831539600-1831543200@terenureswimmingpool.ie
SUMMARY:Free Swim
DESCRIPTION:
URL:https://terenureswimmingpool.ie/timetable/free-swim/2028-01-15/
LOCATION:Terenure College Swimming Pool
END:VEVENT
BEGIN:VEVENT
DTSTART;TZID=Europe/Dublin:20280116T090000
DTEND;TZID=Europe/Dublin:20280116T100000
DTSTAMP:20260423T203259
CREATED:20260127T153017Z
LAST-MODIFIED:20260127T153017Z
UID:10000714-1831626000-1831629600@terenureswimmingpool.ie
SUMMARY:Free Swim
DESCRIPTION:
URL:https://terenureswimmingpool.ie/timetable/free-swim/2028-01-16/
LOCATION:Terenure College Swimming Pool
END:VEVENT
BEGIN:VEVENT
DTSTART;TZID=Europe/Dublin:20280117T090000
DTEND;TZID=Europe/Dublin:20280117T100000
DTSTAMP:20260423T203259
CREATED:20260127T153017Z
LAST-MODIFIED:20260127T153017Z
UID:10000715-1831712400-1831716000@terenureswimmingpool.ie
SUMMARY:Free Swim
DESCRIPTION:
URL:https://terenureswimmingpool.ie/timetable/free-swim/2028-01-17/
LOCATION:Terenure College Swimming Pool
END:VEVENT
BEGIN:VEVENT
DTSTART;TZID=Europe/Dublin:20280118T090000
DTEND;TZID=Europe/Dublin:20280118T100000
DTSTAMP:20260423T203259
CREATED:20260127T153017Z
LAST-MODIFIED:20260127T153017Z
UID:10000716-1831798800-1831802400@terenureswimmingpool.ie
SUMMARY:Free Swim
DESCRIPTION:
URL:https://terenureswimmingpool.ie/timetable/free-swim/2028-01-18/
LOCATION:Terenure College Swimming Pool
END:VEVENT
BEGIN:VEVENT
DTSTART;TZID=Europe/Dublin:20280119T090000
DTEND;TZID=Europe/Dublin:20280119T100000
DTSTAMP:20260423T203259
CREATED:20260127T153017Z
LAST-MODIFIED:20260127T153017Z
UID:10000717-1831885200-1831888800@terenureswimmingpool.ie
SUMMARY:Free Swim
DESCRIPTION:
URL:https://terenureswimmingpool.ie/timetable/free-swim/2028-01-19/
LOCATION:Terenure College Swimming Pool
END:VEVENT
BEGIN:VEVENT
DTSTART;TZID=Europe/Dublin:20280120T090000
DTEND;TZID=Europe/Dublin:20280120T100000
DTSTAMP:20260423T203259
CREATED:20260127T153017Z
LAST-MODIFIED:20260127T153017Z
UID:10000718-1831971600-1831975200@terenureswimmingpool.ie
SUMMARY:Free Swim
DESCRIPTION:
URL:https://terenureswimmingpool.ie/timetable/free-swim/2028-01-20/
LOCATION:Terenure College Swimming Pool
END:VEVENT
BEGIN:VEVENT
DTSTART;TZID=Europe/Dublin:20280121T090000
DTEND;TZID=Europe/Dublin:20280121T100000
DTSTAMP:20260423T203259
CREATED:20260127T153017Z
LAST-MODIFIED:20260127T153017Z
UID:10000719-1832058000-1832061600@terenureswimmingpool.ie
SUMMARY:Free Swim
DESCRIPTION:
URL:https://terenureswimmingpool.ie/timetable/free-swim/2028-01-21/
LOCATION:Terenure College Swimming Pool
END:VEVENT
BEGIN:VEVENT
DTSTART;TZID=Europe/Dublin:20280122T090000
DTEND;TZID=Europe/Dublin:20280122T100000
DTSTAMP:20260423T203259
CREATED:20260127T153017Z
LAST-MODIFIED:20260127T153017Z
UID:10000720-1832144400-1832148000@terenureswimmingpool.ie
SUMMARY:Free Swim
DESCRIPTION:
URL:https://terenureswimmingpool.ie/timetable/free-swim/2028-01-22/
LOCATION:Terenure College Swimming Pool
END:VEVENT
BEGIN:VEVENT
DTSTART;TZID=Europe/Dublin:20280123T090000
DTEND;TZID=Europe/Dublin:20280123T100000
DTSTAMP:20260423T203259
CREATED:20260127T153017Z
LAST-MODIFIED:20260127T153017Z
UID:10000721-1832230800-1832234400@terenureswimmingpool.ie
SUMMARY:Free Swim
DESCRIPTION:
URL:https://terenureswimmingpool.ie/timetable/free-swim/2028-01-23/
LOCATION:Terenure College Swimming Pool
END:VEVENT
BEGIN:VEVENT
DTSTART;TZID=Europe/Dublin:20280124T090000
DTEND;TZID=Europe/Dublin:20280124T100000
DTSTAMP:20260423T203259
CREATED:20260127T153017Z
LAST-MODIFIED:20260127T153017Z
UID:10000722-1832317200-1832320800@terenureswimmingpool.ie
SUMMARY:Free Swim
DESCRIPTION:
URL:https://terenureswimmingpool.ie/timetable/free-swim/2028-01-24/
LOCATION:Terenure College Swimming Pool
END:VEVENT
BEGIN:VEVENT
DTSTART;TZID=Europe/Dublin:20280125T090000
DTEND;TZID=Europe/Dublin:20280125T100000
DTSTAMP:20260423T203259
CREATED:20260127T153017Z
LAST-MODIFIED:20260127T153017Z
UID:10000723-1832403600-1832407200@terenureswimmingpool.ie
SUMMARY:Free Swim
DESCRIPTION:
URL:https://terenureswimmingpool.ie/timetable/free-swim/2028-01-25/
LOCATION:Terenure College Swimming Pool
END:VEVENT
END:VCALENDAR