BEGIN:VCALENDAR
VERSION:2.0
PRODID:-//Terenure Swimming Pool - ECPv6.15.20//NONSGML v1.0//EN
CALSCALE:GREGORIAN
METHOD:PUBLISH
X-ORIGINAL-URL:https://terenureswimmingpool.ie
X-WR-CALDESC:Events for Terenure Swimming Pool
REFRESH-INTERVAL;VALUE=DURATION:PT1H
X-Robots-Tag:noindex
X-PUBLISHED-TTL:PT1H
BEGIN:VTIMEZONE
TZID:Europe/Dublin
BEGIN:STANDARD
TZOFFSETFROM:+0000
TZOFFSETTO:+0100
TZNAME:IST
DTSTART:20270328T010000
END:STANDARD
BEGIN:DAYLIGHT
TZOFFSETFROM:+0100
TZOFFSETTO:+0000
TZNAME:GMT
DTSTART:20271031T010000
END:DAYLIGHT
BEGIN:STANDARD
TZOFFSETFROM:+0000
TZOFFSETTO:+0100
TZNAME:IST
DTSTART:20280326T010000
END:STANDARD
BEGIN:DAYLIGHT
TZOFFSETFROM:+0100
TZOFFSETTO:+0000
TZNAME:GMT
DTSTART:20281029T010000
END:DAYLIGHT
BEGIN:STANDARD
TZOFFSETFROM:+0000
TZOFFSETTO:+0100
TZNAME:IST
DTSTART:20290325T010000
END:STANDARD
BEGIN:DAYLIGHT
TZOFFSETFROM:+0100
TZOFFSETTO:+0000
TZNAME:GMT
DTSTART:20291028T010000
END:DAYLIGHT
END:VTIMEZONE
BEGIN:VEVENT
DTSTART;TZID=Europe/Dublin:20280201T090000
DTEND;TZID=Europe/Dublin:20280201T100000
DTSTAMP:20260424T010118
CREATED:20260127T153017Z
LAST-MODIFIED:20260127T153017Z
UID:10000730-1833008400-1833012000@terenureswimmingpool.ie
SUMMARY:Free Swim
DESCRIPTION:
URL:https://terenureswimmingpool.ie/timetable/free-swim/2028-02-01/
LOCATION:Terenure College Swimming Pool
END:VEVENT
BEGIN:VEVENT
DTSTART;TZID=Europe/Dublin:20280202T090000
DTEND;TZID=Europe/Dublin:20280202T100000
DTSTAMP:20260424T010118
CREATED:20260127T153017Z
LAST-MODIFIED:20260127T153017Z
UID:10000731-1833094800-1833098400@terenureswimmingpool.ie
SUMMARY:Free Swim
DESCRIPTION:
URL:https://terenureswimmingpool.ie/timetable/free-swim/2028-02-02/
LOCATION:Terenure College Swimming Pool
END:VEVENT
BEGIN:VEVENT
DTSTART;TZID=Europe/Dublin:20280203T090000
DTEND;TZID=Europe/Dublin:20280203T100000
DTSTAMP:20260424T010118
CREATED:20260127T153017Z
LAST-MODIFIED:20260127T153017Z
UID:10000732-1833181200-1833184800@terenureswimmingpool.ie
SUMMARY:Free Swim
DESCRIPTION:
URL:https://terenureswimmingpool.ie/timetable/free-swim/2028-02-03/
LOCATION:Terenure College Swimming Pool
END:VEVENT
BEGIN:VEVENT
DTSTART;TZID=Europe/Dublin:20280204T090000
DTEND;TZID=Europe/Dublin:20280204T100000
DTSTAMP:20260424T010118
CREATED:20260127T153017Z
LAST-MODIFIED:20260127T153017Z
UID:10000733-1833267600-1833271200@terenureswimmingpool.ie
SUMMARY:Free Swim
DESCRIPTION:
URL:https://terenureswimmingpool.ie/timetable/free-swim/2028-02-04/
LOCATION:Terenure College Swimming Pool
END:VEVENT
BEGIN:VEVENT
DTSTART;TZID=Europe/Dublin:20280205T090000
DTEND;TZID=Europe/Dublin:20280205T100000
DTSTAMP:20260424T010118
CREATED:20260127T153017Z
LAST-MODIFIED:20260127T153017Z
UID:10000734-1833354000-1833357600@terenureswimmingpool.ie
SUMMARY:Free Swim
DESCRIPTION:
URL:https://terenureswimmingpool.ie/timetable/free-swim/2028-02-05/
LOCATION:Terenure College Swimming Pool
END:VEVENT
BEGIN:VEVENT
DTSTART;TZID=Europe/Dublin:20280206T090000
DTEND;TZID=Europe/Dublin:20280206T100000
DTSTAMP:20260424T010118
CREATED:20260127T153017Z
LAST-MODIFIED:20260127T153017Z
UID:10000735-1833440400-1833444000@terenureswimmingpool.ie
SUMMARY:Free Swim
DESCRIPTION:
URL:https://terenureswimmingpool.ie/timetable/free-swim/2028-02-06/
LOCATION:Terenure College Swimming Pool
END:VEVENT
BEGIN:VEVENT
DTSTART;TZID=Europe/Dublin:20280207T090000
DTEND;TZID=Europe/Dublin:20280207T100000
DTSTAMP:20260424T010118
CREATED:20260127T153017Z
LAST-MODIFIED:20260127T153017Z
UID:10000736-1833526800-1833530400@terenureswimmingpool.ie
SUMMARY:Free Swim
DESCRIPTION:
URL:https://terenureswimmingpool.ie/timetable/free-swim/2028-02-07/
LOCATION:Terenure College Swimming Pool
END:VEVENT
BEGIN:VEVENT
DTSTART;TZID=Europe/Dublin:20280208T090000
DTEND;TZID=Europe/Dublin:20280208T100000
DTSTAMP:20260424T010118
CREATED:20260127T153017Z
LAST-MODIFIED:20260127T153017Z
UID:10000737-1833613200-1833616800@terenureswimmingpool.ie
SUMMARY:Free Swim
DESCRIPTION:
URL:https://terenureswimmingpool.ie/timetable/free-swim/2028-02-08/
LOCATION:Terenure College Swimming Pool
END:VEVENT
BEGIN:VEVENT
DTSTART;TZID=Europe/Dublin:20280209T090000
DTEND;TZID=Europe/Dublin:20280209T100000
DTSTAMP:20260424T010118
CREATED:20260127T153017Z
LAST-MODIFIED:20260127T153017Z
UID:10000738-1833699600-1833703200@terenureswimmingpool.ie
SUMMARY:Free Swim
DESCRIPTION:
URL:https://terenureswimmingpool.ie/timetable/free-swim/2028-02-09/
LOCATION:Terenure College Swimming Pool
END:VEVENT
BEGIN:VEVENT
DTSTART;TZID=Europe/Dublin:20280210T090000
DTEND;TZID=Europe/Dublin:20280210T100000
DTSTAMP:20260424T010118
CREATED:20260127T153017Z
LAST-MODIFIED:20260127T153017Z
UID:10000739-1833786000-1833789600@terenureswimmingpool.ie
SUMMARY:Free Swim
DESCRIPTION:
URL:https://terenureswimmingpool.ie/timetable/free-swim/2028-02-10/
LOCATION:Terenure College Swimming Pool
END:VEVENT
BEGIN:VEVENT
DTSTART;TZID=Europe/Dublin:20280211T090000
DTEND;TZID=Europe/Dublin:20280211T100000
DTSTAMP:20260424T010118
CREATED:20260127T153017Z
LAST-MODIFIED:20260127T153017Z
UID:10000740-1833872400-1833876000@terenureswimmingpool.ie
SUMMARY:Free Swim
DESCRIPTION:
URL:https://terenureswimmingpool.ie/timetable/free-swim/2028-02-11/
LOCATION:Terenure College Swimming Pool
END:VEVENT
BEGIN:VEVENT
DTSTART;TZID=Europe/Dublin:20280212T090000
DTEND;TZID=Europe/Dublin:20280212T100000
DTSTAMP:20260424T010118
CREATED:20260127T153017Z
LAST-MODIFIED:20260127T153017Z
UID:10000741-1833958800-1833962400@terenureswimmingpool.ie
SUMMARY:Free Swim
DESCRIPTION:
URL:https://terenureswimmingpool.ie/timetable/free-swim/2028-02-12/
LOCATION:Terenure College Swimming Pool
END:VEVENT
BEGIN:VEVENT
DTSTART;TZID=Europe/Dublin:20280213T090000
DTEND;TZID=Europe/Dublin:20280213T100000
DTSTAMP:20260424T010118
CREATED:20260127T153017Z
LAST-MODIFIED:20260127T153017Z
UID:10000742-1834045200-1834048800@terenureswimmingpool.ie
SUMMARY:Free Swim
DESCRIPTION:
URL:https://terenureswimmingpool.ie/timetable/free-swim/2028-02-13/
LOCATION:Terenure College Swimming Pool
END:VEVENT
BEGIN:VEVENT
DTSTART;TZID=Europe/Dublin:20280214T090000
DTEND;TZID=Europe/Dublin:20280214T100000
DTSTAMP:20260424T010118
CREATED:20260127T153017Z
LAST-MODIFIED:20260127T153017Z
UID:10000743-1834131600-1834135200@terenureswimmingpool.ie
SUMMARY:Free Swim
DESCRIPTION:
URL:https://terenureswimmingpool.ie/timetable/free-swim/2028-02-14/
LOCATION:Terenure College Swimming Pool
END:VEVENT
BEGIN:VEVENT
DTSTART;TZID=Europe/Dublin:20280215T090000
DTEND;TZID=Europe/Dublin:20280215T100000
DTSTAMP:20260424T010118
CREATED:20260127T153017Z
LAST-MODIFIED:20260127T153017Z
UID:10000744-1834218000-1834221600@terenureswimmingpool.ie
SUMMARY:Free Swim
DESCRIPTION:
URL:https://terenureswimmingpool.ie/timetable/free-swim/2028-02-15/
LOCATION:Terenure College Swimming Pool
END:VEVENT
BEGIN:VEVENT
DTSTART;TZID=Europe/Dublin:20280216T090000
DTEND;TZID=Europe/Dublin:20280216T100000
DTSTAMP:20260424T010118
CREATED:20260127T153017Z
LAST-MODIFIED:20260127T153017Z
UID:10000745-1834304400-1834308000@terenureswimmingpool.ie
SUMMARY:Free Swim
DESCRIPTION:
URL:https://terenureswimmingpool.ie/timetable/free-swim/2028-02-16/
LOCATION:Terenure College Swimming Pool
END:VEVENT
BEGIN:VEVENT
DTSTART;TZID=Europe/Dublin:20280217T090000
DTEND;TZID=Europe/Dublin:20280217T100000
DTSTAMP:20260424T010118
CREATED:20260127T153017Z
LAST-MODIFIED:20260127T153017Z
UID:10000746-1834390800-1834394400@terenureswimmingpool.ie
SUMMARY:Free Swim
DESCRIPTION:
URL:https://terenureswimmingpool.ie/timetable/free-swim/2028-02-17/
LOCATION:Terenure College Swimming Pool
END:VEVENT
BEGIN:VEVENT
DTSTART;TZID=Europe/Dublin:20280218T090000
DTEND;TZID=Europe/Dublin:20280218T100000
DTSTAMP:20260424T010118
CREATED:20260127T153017Z
LAST-MODIFIED:20260127T153017Z
UID:10000747-1834477200-1834480800@terenureswimmingpool.ie
SUMMARY:Free Swim
DESCRIPTION:
URL:https://terenureswimmingpool.ie/timetable/free-swim/2028-02-18/
LOCATION:Terenure College Swimming Pool
END:VEVENT
BEGIN:VEVENT
DTSTART;TZID=Europe/Dublin:20280219T090000
DTEND;TZID=Europe/Dublin:20280219T100000
DTSTAMP:20260424T010118
CREATED:20260127T153017Z
LAST-MODIFIED:20260127T153017Z
UID:10000748-1834563600-1834567200@terenureswimmingpool.ie
SUMMARY:Free Swim
DESCRIPTION:
URL:https://terenureswimmingpool.ie/timetable/free-swim/2028-02-19/
LOCATION:Terenure College Swimming Pool
END:VEVENT
BEGIN:VEVENT
DTSTART;TZID=Europe/Dublin:20280220T090000
DTEND;TZID=Europe/Dublin:20280220T100000
DTSTAMP:20260424T010118
CREATED:20260127T153017Z
LAST-MODIFIED:20260127T153017Z
UID:10000749-1834650000-1834653600@terenureswimmingpool.ie
SUMMARY:Free Swim
DESCRIPTION:
URL:https://terenureswimmingpool.ie/timetable/free-swim/2028-02-20/
LOCATION:Terenure College Swimming Pool
END:VEVENT
BEGIN:VEVENT
DTSTART;TZID=Europe/Dublin:20280221T090000
DTEND;TZID=Europe/Dublin:20280221T100000
DTSTAMP:20260424T010118
CREATED:20260127T153017Z
LAST-MODIFIED:20260127T153017Z
UID:10000750-1834736400-1834740000@terenureswimmingpool.ie
SUMMARY:Free Swim
DESCRIPTION:
URL:https://terenureswimmingpool.ie/timetable/free-swim/2028-02-21/
LOCATION:Terenure College Swimming Pool
END:VEVENT
BEGIN:VEVENT
DTSTART;TZID=Europe/Dublin:20280222T090000
DTEND;TZID=Europe/Dublin:20280222T100000
DTSTAMP:20260424T010118
CREATED:20260127T153017Z
LAST-MODIFIED:20260127T153017Z
UID:10000751-1834822800-1834826400@terenureswimmingpool.ie
SUMMARY:Free Swim
DESCRIPTION:
URL:https://terenureswimmingpool.ie/timetable/free-swim/2028-02-22/
LOCATION:Terenure College Swimming Pool
END:VEVENT
BEGIN:VEVENT
DTSTART;TZID=Europe/Dublin:20280223T090000
DTEND;TZID=Europe/Dublin:20280223T100000
DTSTAMP:20260424T010118
CREATED:20260127T153017Z
LAST-MODIFIED:20260127T153017Z
UID:10000752-1834909200-1834912800@terenureswimmingpool.ie
SUMMARY:Free Swim
DESCRIPTION:
URL:https://terenureswimmingpool.ie/timetable/free-swim/2028-02-23/
LOCATION:Terenure College Swimming Pool
END:VEVENT
BEGIN:VEVENT
DTSTART;TZID=Europe/Dublin:20280224T090000
DTEND;TZID=Europe/Dublin:20280224T100000
DTSTAMP:20260424T010118
CREATED:20260127T153017Z
LAST-MODIFIED:20260127T153017Z
UID:10000753-1834995600-1834999200@terenureswimmingpool.ie
SUMMARY:Free Swim
DESCRIPTION:
URL:https://terenureswimmingpool.ie/timetable/free-swim/2028-02-24/
LOCATION:Terenure College Swimming Pool
END:VEVENT
BEGIN:VEVENT
DTSTART;TZID=Europe/Dublin:20280225T090000
DTEND;TZID=Europe/Dublin:20280225T100000
DTSTAMP:20260424T010118
CREATED:20260127T153017Z
LAST-MODIFIED:20260127T153017Z
UID:10000754-1835082000-1835085600@terenureswimmingpool.ie
SUMMARY:Free Swim
DESCRIPTION:
URL:https://terenureswimmingpool.ie/timetable/free-swim/2028-02-25/
LOCATION:Terenure College Swimming Pool
END:VEVENT
BEGIN:VEVENT
DTSTART;TZID=Europe/Dublin:20280226T090000
DTEND;TZID=Europe/Dublin:20280226T100000
DTSTAMP:20260424T010118
CREATED:20260127T153017Z
LAST-MODIFIED:20260127T153017Z
UID:10000755-1835168400-1835172000@terenureswimmingpool.ie
SUMMARY:Free Swim
DESCRIPTION:
URL:https://terenureswimmingpool.ie/timetable/free-swim/2028-02-26/
LOCATION:Terenure College Swimming Pool
END:VEVENT
BEGIN:VEVENT
DTSTART;TZID=Europe/Dublin:20280227T090000
DTEND;TZID=Europe/Dublin:20280227T100000
DTSTAMP:20260424T010118
CREATED:20260127T153017Z
LAST-MODIFIED:20260127T153017Z
UID:10000756-1835254800-1835258400@terenureswimmingpool.ie
SUMMARY:Free Swim
DESCRIPTION:
URL:https://terenureswimmingpool.ie/timetable/free-swim/2028-02-27/
LOCATION:Terenure College Swimming Pool
END:VEVENT
BEGIN:VEVENT
DTSTART;TZID=Europe/Dublin:20280228T090000
DTEND;TZID=Europe/Dublin:20280228T100000
DTSTAMP:20260424T010118
CREATED:20260127T153017Z
LAST-MODIFIED:20260127T153017Z
UID:10000757-1835341200-1835344800@terenureswimmingpool.ie
SUMMARY:Free Swim
DESCRIPTION:
URL:https://terenureswimmingpool.ie/timetable/free-swim/2028-02-28/
LOCATION:Terenure College Swimming Pool
END:VEVENT
BEGIN:VEVENT
DTSTART;TZID=Europe/Dublin:20280229T090000
DTEND;TZID=Europe/Dublin:20280229T100000
DTSTAMP:20260424T010118
CREATED:20260127T153017Z
LAST-MODIFIED:20260127T153017Z
UID:10000758-1835427600-1835431200@terenureswimmingpool.ie
SUMMARY:Free Swim
DESCRIPTION:
URL:https://terenureswimmingpool.ie/timetable/free-swim/2028-02-29/
LOCATION:Terenure College Swimming Pool
END:VEVENT
BEGIN:VEVENT
DTSTART;TZID=Europe/Dublin:20280301T090000
DTEND;TZID=Europe/Dublin:20280301T100000
DTSTAMP:20260424T010118
CREATED:20260127T153017Z
LAST-MODIFIED:20260127T153017Z
UID:10000759-1835514000-1835517600@terenureswimmingpool.ie
SUMMARY:Free Swim
DESCRIPTION:
URL:https://terenureswimmingpool.ie/timetable/free-swim/2028-03-01/
LOCATION:Terenure College Swimming Pool
END:VEVENT
END:VCALENDAR