BEGIN:VCALENDAR
VERSION:2.0
PRODID:-//Terenure Swimming Pool - ECPv6.15.20//NONSGML v1.0//EN
CALSCALE:GREGORIAN
METHOD:PUBLISH
X-ORIGINAL-URL:https://terenureswimmingpool.ie
X-WR-CALDESC:Events for Terenure Swimming Pool
REFRESH-INTERVAL;VALUE=DURATION:PT1H
X-Robots-Tag:noindex
X-PUBLISHED-TTL:PT1H
BEGIN:VTIMEZONE
TZID:Europe/Dublin
BEGIN:STANDARD
TZOFFSETFROM:+0000
TZOFFSETTO:+0100
TZNAME:IST
DTSTART:20270328T010000
END:STANDARD
BEGIN:DAYLIGHT
TZOFFSETFROM:+0100
TZOFFSETTO:+0000
TZNAME:GMT
DTSTART:20271031T010000
END:DAYLIGHT
BEGIN:STANDARD
TZOFFSETFROM:+0000
TZOFFSETTO:+0100
TZNAME:IST
DTSTART:20280326T010000
END:STANDARD
BEGIN:DAYLIGHT
TZOFFSETFROM:+0100
TZOFFSETTO:+0000
TZNAME:GMT
DTSTART:20281029T010000
END:DAYLIGHT
BEGIN:STANDARD
TZOFFSETFROM:+0000
TZOFFSETTO:+0100
TZNAME:IST
DTSTART:20290325T010000
END:STANDARD
BEGIN:DAYLIGHT
TZOFFSETFROM:+0100
TZOFFSETTO:+0000
TZNAME:GMT
DTSTART:20291028T010000
END:DAYLIGHT
END:VTIMEZONE
BEGIN:VEVENT
DTSTART;TZID=Europe/Dublin:20280308T090000
DTEND;TZID=Europe/Dublin:20280308T100000
DTSTAMP:20260424T045457
CREATED:20260127T153017Z
LAST-MODIFIED:20260127T153017Z
UID:10000766-1836118800-1836122400@terenureswimmingpool.ie
SUMMARY:Free Swim
DESCRIPTION:
URL:https://terenureswimmingpool.ie/timetable/free-swim/2028-03-08/
LOCATION:Terenure College Swimming Pool
END:VEVENT
BEGIN:VEVENT
DTSTART;TZID=Europe/Dublin:20280309T090000
DTEND;TZID=Europe/Dublin:20280309T100000
DTSTAMP:20260424T045457
CREATED:20260127T153017Z
LAST-MODIFIED:20260127T153017Z
UID:10000767-1836205200-1836208800@terenureswimmingpool.ie
SUMMARY:Free Swim
DESCRIPTION:
URL:https://terenureswimmingpool.ie/timetable/free-swim/2028-03-09/
LOCATION:Terenure College Swimming Pool
END:VEVENT
BEGIN:VEVENT
DTSTART;TZID=Europe/Dublin:20280310T090000
DTEND;TZID=Europe/Dublin:20280310T100000
DTSTAMP:20260424T045458
CREATED:20260127T153017Z
LAST-MODIFIED:20260127T153017Z
UID:10000768-1836291600-1836295200@terenureswimmingpool.ie
SUMMARY:Free Swim
DESCRIPTION:
URL:https://terenureswimmingpool.ie/timetable/free-swim/2028-03-10/
LOCATION:Terenure College Swimming Pool
END:VEVENT
BEGIN:VEVENT
DTSTART;TZID=Europe/Dublin:20280311T090000
DTEND;TZID=Europe/Dublin:20280311T100000
DTSTAMP:20260424T045458
CREATED:20260127T153017Z
LAST-MODIFIED:20260127T153017Z
UID:10000769-1836378000-1836381600@terenureswimmingpool.ie
SUMMARY:Free Swim
DESCRIPTION:
URL:https://terenureswimmingpool.ie/timetable/free-swim/2028-03-11/
LOCATION:Terenure College Swimming Pool
END:VEVENT
BEGIN:VEVENT
DTSTART;TZID=Europe/Dublin:20280312T090000
DTEND;TZID=Europe/Dublin:20280312T100000
DTSTAMP:20260424T045458
CREATED:20260127T153017Z
LAST-MODIFIED:20260127T153017Z
UID:10000770-1836464400-1836468000@terenureswimmingpool.ie
SUMMARY:Free Swim
DESCRIPTION:
URL:https://terenureswimmingpool.ie/timetable/free-swim/2028-03-12/
LOCATION:Terenure College Swimming Pool
END:VEVENT
BEGIN:VEVENT
DTSTART;TZID=Europe/Dublin:20280313T090000
DTEND;TZID=Europe/Dublin:20280313T100000
DTSTAMP:20260424T045458
CREATED:20260127T153017Z
LAST-MODIFIED:20260127T153017Z
UID:10000771-1836550800-1836554400@terenureswimmingpool.ie
SUMMARY:Free Swim
DESCRIPTION:
URL:https://terenureswimmingpool.ie/timetable/free-swim/2028-03-13/
LOCATION:Terenure College Swimming Pool
END:VEVENT
BEGIN:VEVENT
DTSTART;TZID=Europe/Dublin:20280314T090000
DTEND;TZID=Europe/Dublin:20280314T100000
DTSTAMP:20260424T045458
CREATED:20260127T153017Z
LAST-MODIFIED:20260127T153017Z
UID:10000772-1836637200-1836640800@terenureswimmingpool.ie
SUMMARY:Free Swim
DESCRIPTION:
URL:https://terenureswimmingpool.ie/timetable/free-swim/2028-03-14/
LOCATION:Terenure College Swimming Pool
END:VEVENT
BEGIN:VEVENT
DTSTART;TZID=Europe/Dublin:20280315T090000
DTEND;TZID=Europe/Dublin:20280315T100000
DTSTAMP:20260424T045458
CREATED:20260127T153017Z
LAST-MODIFIED:20260127T153017Z
UID:10000773-1836723600-1836727200@terenureswimmingpool.ie
SUMMARY:Free Swim
DESCRIPTION:
URL:https://terenureswimmingpool.ie/timetable/free-swim/2028-03-15/
LOCATION:Terenure College Swimming Pool
END:VEVENT
BEGIN:VEVENT
DTSTART;TZID=Europe/Dublin:20280316T090000
DTEND;TZID=Europe/Dublin:20280316T100000
DTSTAMP:20260424T045458
CREATED:20260127T153017Z
LAST-MODIFIED:20260127T153017Z
UID:10000774-1836810000-1836813600@terenureswimmingpool.ie
SUMMARY:Free Swim
DESCRIPTION:
URL:https://terenureswimmingpool.ie/timetable/free-swim/2028-03-16/
LOCATION:Terenure College Swimming Pool
END:VEVENT
BEGIN:VEVENT
DTSTART;TZID=Europe/Dublin:20280317T090000
DTEND;TZID=Europe/Dublin:20280317T100000
DTSTAMP:20260424T045458
CREATED:20260127T153017Z
LAST-MODIFIED:20260127T153017Z
UID:10000775-1836896400-1836900000@terenureswimmingpool.ie
SUMMARY:Free Swim
DESCRIPTION:
URL:https://terenureswimmingpool.ie/timetable/free-swim/2028-03-17/
LOCATION:Terenure College Swimming Pool
END:VEVENT
BEGIN:VEVENT
DTSTART;TZID=Europe/Dublin:20280318T090000
DTEND;TZID=Europe/Dublin:20280318T100000
DTSTAMP:20260424T045458
CREATED:20260127T153017Z
LAST-MODIFIED:20260127T153017Z
UID:10000776-1836982800-1836986400@terenureswimmingpool.ie
SUMMARY:Free Swim
DESCRIPTION:
URL:https://terenureswimmingpool.ie/timetable/free-swim/2028-03-18/
LOCATION:Terenure College Swimming Pool
END:VEVENT
BEGIN:VEVENT
DTSTART;TZID=Europe/Dublin:20280319T090000
DTEND;TZID=Europe/Dublin:20280319T100000
DTSTAMP:20260424T045458
CREATED:20260127T153017Z
LAST-MODIFIED:20260127T153017Z
UID:10000777-1837069200-1837072800@terenureswimmingpool.ie
SUMMARY:Free Swim
DESCRIPTION:
URL:https://terenureswimmingpool.ie/timetable/free-swim/2028-03-19/
LOCATION:Terenure College Swimming Pool
END:VEVENT
BEGIN:VEVENT
DTSTART;TZID=Europe/Dublin:20280320T090000
DTEND;TZID=Europe/Dublin:20280320T100000
DTSTAMP:20260424T045458
CREATED:20260127T153017Z
LAST-MODIFIED:20260127T153017Z
UID:10000778-1837155600-1837159200@terenureswimmingpool.ie
SUMMARY:Free Swim
DESCRIPTION:
URL:https://terenureswimmingpool.ie/timetable/free-swim/2028-03-20/
LOCATION:Terenure College Swimming Pool
END:VEVENT
BEGIN:VEVENT
DTSTART;TZID=Europe/Dublin:20280321T090000
DTEND;TZID=Europe/Dublin:20280321T100000
DTSTAMP:20260424T045458
CREATED:20260127T153017Z
LAST-MODIFIED:20260127T153017Z
UID:10000779-1837242000-1837245600@terenureswimmingpool.ie
SUMMARY:Free Swim
DESCRIPTION:
URL:https://terenureswimmingpool.ie/timetable/free-swim/2028-03-21/
LOCATION:Terenure College Swimming Pool
END:VEVENT
BEGIN:VEVENT
DTSTART;TZID=Europe/Dublin:20280322T090000
DTEND;TZID=Europe/Dublin:20280322T100000
DTSTAMP:20260424T045458
CREATED:20260127T153017Z
LAST-MODIFIED:20260127T153017Z
UID:10000780-1837328400-1837332000@terenureswimmingpool.ie
SUMMARY:Free Swim
DESCRIPTION:
URL:https://terenureswimmingpool.ie/timetable/free-swim/2028-03-22/
LOCATION:Terenure College Swimming Pool
END:VEVENT
BEGIN:VEVENT
DTSTART;TZID=Europe/Dublin:20280323T090000
DTEND;TZID=Europe/Dublin:20280323T100000
DTSTAMP:20260424T045458
CREATED:20260127T153017Z
LAST-MODIFIED:20260127T153017Z
UID:10000781-1837414800-1837418400@terenureswimmingpool.ie
SUMMARY:Free Swim
DESCRIPTION:
URL:https://terenureswimmingpool.ie/timetable/free-swim/2028-03-23/
LOCATION:Terenure College Swimming Pool
END:VEVENT
BEGIN:VEVENT
DTSTART;TZID=Europe/Dublin:20280324T090000
DTEND;TZID=Europe/Dublin:20280324T100000
DTSTAMP:20260424T045458
CREATED:20260127T153017Z
LAST-MODIFIED:20260127T153017Z
UID:10000782-1837501200-1837504800@terenureswimmingpool.ie
SUMMARY:Free Swim
DESCRIPTION:
URL:https://terenureswimmingpool.ie/timetable/free-swim/2028-03-24/
LOCATION:Terenure College Swimming Pool
END:VEVENT
BEGIN:VEVENT
DTSTART;TZID=Europe/Dublin:20280325T090000
DTEND;TZID=Europe/Dublin:20280325T100000
DTSTAMP:20260424T045458
CREATED:20260127T153017Z
LAST-MODIFIED:20260127T153017Z
UID:10000783-1837587600-1837591200@terenureswimmingpool.ie
SUMMARY:Free Swim
DESCRIPTION:
URL:https://terenureswimmingpool.ie/timetable/free-swim/2028-03-25/
LOCATION:Terenure College Swimming Pool
END:VEVENT
BEGIN:VEVENT
DTSTART;TZID=Europe/Dublin:20280326T090000
DTEND;TZID=Europe/Dublin:20280326T100000
DTSTAMP:20260424T045458
CREATED:20260127T153017Z
LAST-MODIFIED:20260127T153017Z
UID:10000784-1837674000-1837677600@terenureswimmingpool.ie
SUMMARY:Free Swim
DESCRIPTION:
URL:https://terenureswimmingpool.ie/timetable/free-swim/2028-03-26/
LOCATION:Terenure College Swimming Pool
END:VEVENT
BEGIN:VEVENT
DTSTART;TZID=Europe/Dublin:20280327T090000
DTEND;TZID=Europe/Dublin:20280327T100000
DTSTAMP:20260424T045458
CREATED:20260127T153017Z
LAST-MODIFIED:20260127T153017Z
UID:10000785-1837760400-1837764000@terenureswimmingpool.ie
SUMMARY:Free Swim
DESCRIPTION:
URL:https://terenureswimmingpool.ie/timetable/free-swim/2028-03-27/
LOCATION:Terenure College Swimming Pool
END:VEVENT
BEGIN:VEVENT
DTSTART;TZID=Europe/Dublin:20280328T090000
DTEND;TZID=Europe/Dublin:20280328T100000
DTSTAMP:20260424T045458
CREATED:20260127T153017Z
LAST-MODIFIED:20260127T153017Z
UID:10000786-1837846800-1837850400@terenureswimmingpool.ie
SUMMARY:Free Swim
DESCRIPTION:
URL:https://terenureswimmingpool.ie/timetable/free-swim/2028-03-28/
LOCATION:Terenure College Swimming Pool
END:VEVENT
BEGIN:VEVENT
DTSTART;TZID=Europe/Dublin:20280329T090000
DTEND;TZID=Europe/Dublin:20280329T100000
DTSTAMP:20260424T045458
CREATED:20260127T153017Z
LAST-MODIFIED:20260127T153017Z
UID:10000787-1837933200-1837936800@terenureswimmingpool.ie
SUMMARY:Free Swim
DESCRIPTION:
URL:https://terenureswimmingpool.ie/timetable/free-swim/2028-03-29/
LOCATION:Terenure College Swimming Pool
END:VEVENT
BEGIN:VEVENT
DTSTART;TZID=Europe/Dublin:20280330T090000
DTEND;TZID=Europe/Dublin:20280330T100000
DTSTAMP:20260424T045458
CREATED:20260127T153017Z
LAST-MODIFIED:20260127T153017Z
UID:10000788-1838019600-1838023200@terenureswimmingpool.ie
SUMMARY:Free Swim
DESCRIPTION:
URL:https://terenureswimmingpool.ie/timetable/free-swim/2028-03-30/
LOCATION:Terenure College Swimming Pool
END:VEVENT
BEGIN:VEVENT
DTSTART;TZID=Europe/Dublin:20280331T090000
DTEND;TZID=Europe/Dublin:20280331T100000
DTSTAMP:20260424T045458
CREATED:20260127T153017Z
LAST-MODIFIED:20260127T153017Z
UID:10000789-1838106000-1838109600@terenureswimmingpool.ie
SUMMARY:Free Swim
DESCRIPTION:
URL:https://terenureswimmingpool.ie/timetable/free-swim/2028-03-31/
LOCATION:Terenure College Swimming Pool
END:VEVENT
BEGIN:VEVENT
DTSTART;TZID=Europe/Dublin:20280401T090000
DTEND;TZID=Europe/Dublin:20280401T100000
DTSTAMP:20260424T045458
CREATED:20260127T153017Z
LAST-MODIFIED:20260127T153017Z
UID:10000790-1838192400-1838196000@terenureswimmingpool.ie
SUMMARY:Free Swim
DESCRIPTION:
URL:https://terenureswimmingpool.ie/timetable/free-swim/2028-04-01/
LOCATION:Terenure College Swimming Pool
END:VEVENT
BEGIN:VEVENT
DTSTART;TZID=Europe/Dublin:20280402T090000
DTEND;TZID=Europe/Dublin:20280402T100000
DTSTAMP:20260424T045458
CREATED:20260127T153017Z
LAST-MODIFIED:20260127T153017Z
UID:10000791-1838278800-1838282400@terenureswimmingpool.ie
SUMMARY:Free Swim
DESCRIPTION:
URL:https://terenureswimmingpool.ie/timetable/free-swim/2028-04-02/
LOCATION:Terenure College Swimming Pool
END:VEVENT
BEGIN:VEVENT
DTSTART;TZID=Europe/Dublin:20280403T090000
DTEND;TZID=Europe/Dublin:20280403T100000
DTSTAMP:20260424T045458
CREATED:20260127T153017Z
LAST-MODIFIED:20260127T153017Z
UID:10000792-1838365200-1838368800@terenureswimmingpool.ie
SUMMARY:Free Swim
DESCRIPTION:
URL:https://terenureswimmingpool.ie/timetable/free-swim/2028-04-03/
LOCATION:Terenure College Swimming Pool
END:VEVENT
BEGIN:VEVENT
DTSTART;TZID=Europe/Dublin:20280404T090000
DTEND;TZID=Europe/Dublin:20280404T100000
DTSTAMP:20260424T045458
CREATED:20260127T153017Z
LAST-MODIFIED:20260127T153017Z
UID:10000793-1838451600-1838455200@terenureswimmingpool.ie
SUMMARY:Free Swim
DESCRIPTION:
URL:https://terenureswimmingpool.ie/timetable/free-swim/2028-04-04/
LOCATION:Terenure College Swimming Pool
END:VEVENT
BEGIN:VEVENT
DTSTART;TZID=Europe/Dublin:20280405T090000
DTEND;TZID=Europe/Dublin:20280405T100000
DTSTAMP:20260424T045458
CREATED:20260127T153017Z
LAST-MODIFIED:20260127T153017Z
UID:10000794-1838538000-1838541600@terenureswimmingpool.ie
SUMMARY:Free Swim
DESCRIPTION:
URL:https://terenureswimmingpool.ie/timetable/free-swim/2028-04-05/
LOCATION:Terenure College Swimming Pool
END:VEVENT
BEGIN:VEVENT
DTSTART;TZID=Europe/Dublin:20280406T090000
DTEND;TZID=Europe/Dublin:20280406T100000
DTSTAMP:20260424T045458
CREATED:20260127T153017Z
LAST-MODIFIED:20260127T153017Z
UID:10000795-1838624400-1838628000@terenureswimmingpool.ie
SUMMARY:Free Swim
DESCRIPTION:
URL:https://terenureswimmingpool.ie/timetable/free-swim/2028-04-06/
LOCATION:Terenure College Swimming Pool
END:VEVENT
END:VCALENDAR