BEGIN:VCALENDAR
VERSION:2.0
PRODID:-//Terenure Swimming Pool - ECPv6.15.20//NONSGML v1.0//EN
CALSCALE:GREGORIAN
METHOD:PUBLISH
X-WR-CALNAME:Terenure Swimming Pool
X-ORIGINAL-URL:https://terenureswimmingpool.ie
X-WR-CALDESC:Events for Terenure Swimming Pool
REFRESH-INTERVAL;VALUE=DURATION:PT1H
X-Robots-Tag:noindex
X-PUBLISHED-TTL:PT1H
BEGIN:VTIMEZONE
TZID:Europe/Dublin
BEGIN:STANDARD
TZOFFSETFROM:+0000
TZOFFSETTO:+0100
TZNAME:IST
DTSTART:20270328T010000
END:STANDARD
BEGIN:DAYLIGHT
TZOFFSETFROM:+0100
TZOFFSETTO:+0000
TZNAME:GMT
DTSTART:20271031T010000
END:DAYLIGHT
BEGIN:STANDARD
TZOFFSETFROM:+0000
TZOFFSETTO:+0100
TZNAME:IST
DTSTART:20280326T010000
END:STANDARD
BEGIN:DAYLIGHT
TZOFFSETFROM:+0100
TZOFFSETTO:+0000
TZNAME:GMT
DTSTART:20281029T010000
END:DAYLIGHT
BEGIN:STANDARD
TZOFFSETFROM:+0000
TZOFFSETTO:+0100
TZNAME:IST
DTSTART:20290325T010000
END:STANDARD
BEGIN:DAYLIGHT
TZOFFSETFROM:+0100
TZOFFSETTO:+0000
TZNAME:GMT
DTSTART:20291028T010000
END:DAYLIGHT
END:VTIMEZONE
BEGIN:VEVENT
DTSTART;TZID=Europe/Dublin:20280401T090000
DTEND;TZID=Europe/Dublin:20280401T100000
DTSTAMP:20260424T071713
CREATED:20260127T153017Z
LAST-MODIFIED:20260127T153017Z
UID:10000790-1838192400-1838196000@terenureswimmingpool.ie
SUMMARY:Free Swim
DESCRIPTION:
URL:https://terenureswimmingpool.ie/timetable/free-swim/2028-04-01/
LOCATION:Terenure College Swimming Pool
END:VEVENT
BEGIN:VEVENT
DTSTART;TZID=Europe/Dublin:20280402T090000
DTEND;TZID=Europe/Dublin:20280402T100000
DTSTAMP:20260424T071713
CREATED:20260127T153017Z
LAST-MODIFIED:20260127T153017Z
UID:10000791-1838278800-1838282400@terenureswimmingpool.ie
SUMMARY:Free Swim
DESCRIPTION:
URL:https://terenureswimmingpool.ie/timetable/free-swim/2028-04-02/
LOCATION:Terenure College Swimming Pool
END:VEVENT
BEGIN:VEVENT
DTSTART;TZID=Europe/Dublin:20280403T090000
DTEND;TZID=Europe/Dublin:20280403T100000
DTSTAMP:20260424T071713
CREATED:20260127T153017Z
LAST-MODIFIED:20260127T153017Z
UID:10000792-1838365200-1838368800@terenureswimmingpool.ie
SUMMARY:Free Swim
DESCRIPTION:
URL:https://terenureswimmingpool.ie/timetable/free-swim/2028-04-03/
LOCATION:Terenure College Swimming Pool
END:VEVENT
BEGIN:VEVENT
DTSTART;TZID=Europe/Dublin:20280404T090000
DTEND;TZID=Europe/Dublin:20280404T100000
DTSTAMP:20260424T071713
CREATED:20260127T153017Z
LAST-MODIFIED:20260127T153017Z
UID:10000793-1838451600-1838455200@terenureswimmingpool.ie
SUMMARY:Free Swim
DESCRIPTION:
URL:https://terenureswimmingpool.ie/timetable/free-swim/2028-04-04/
LOCATION:Terenure College Swimming Pool
END:VEVENT
BEGIN:VEVENT
DTSTART;TZID=Europe/Dublin:20280405T090000
DTEND;TZID=Europe/Dublin:20280405T100000
DTSTAMP:20260424T071713
CREATED:20260127T153017Z
LAST-MODIFIED:20260127T153017Z
UID:10000794-1838538000-1838541600@terenureswimmingpool.ie
SUMMARY:Free Swim
DESCRIPTION:
URL:https://terenureswimmingpool.ie/timetable/free-swim/2028-04-05/
LOCATION:Terenure College Swimming Pool
END:VEVENT
BEGIN:VEVENT
DTSTART;TZID=Europe/Dublin:20280406T090000
DTEND;TZID=Europe/Dublin:20280406T100000
DTSTAMP:20260424T071713
CREATED:20260127T153017Z
LAST-MODIFIED:20260127T153017Z
UID:10000795-1838624400-1838628000@terenureswimmingpool.ie
SUMMARY:Free Swim
DESCRIPTION:
URL:https://terenureswimmingpool.ie/timetable/free-swim/2028-04-06/
LOCATION:Terenure College Swimming Pool
END:VEVENT
BEGIN:VEVENT
DTSTART;TZID=Europe/Dublin:20280407T090000
DTEND;TZID=Europe/Dublin:20280407T100000
DTSTAMP:20260424T071713
CREATED:20260127T153017Z
LAST-MODIFIED:20260127T153017Z
UID:10000796-1838710800-1838714400@terenureswimmingpool.ie
SUMMARY:Free Swim
DESCRIPTION:
URL:https://terenureswimmingpool.ie/timetable/free-swim/2028-04-07/
LOCATION:Terenure College Swimming Pool
END:VEVENT
BEGIN:VEVENT
DTSTART;TZID=Europe/Dublin:20280408T090000
DTEND;TZID=Europe/Dublin:20280408T100000
DTSTAMP:20260424T071713
CREATED:20260127T153017Z
LAST-MODIFIED:20260127T153017Z
UID:10000797-1838797200-1838800800@terenureswimmingpool.ie
SUMMARY:Free Swim
DESCRIPTION:
URL:https://terenureswimmingpool.ie/timetable/free-swim/2028-04-08/
LOCATION:Terenure College Swimming Pool
END:VEVENT
BEGIN:VEVENT
DTSTART;TZID=Europe/Dublin:20280409T090000
DTEND;TZID=Europe/Dublin:20280409T100000
DTSTAMP:20260424T071713
CREATED:20260127T153017Z
LAST-MODIFIED:20260127T153017Z
UID:10000798-1838883600-1838887200@terenureswimmingpool.ie
SUMMARY:Free Swim
DESCRIPTION:
URL:https://terenureswimmingpool.ie/timetable/free-swim/2028-04-09/
LOCATION:Terenure College Swimming Pool
END:VEVENT
BEGIN:VEVENT
DTSTART;TZID=Europe/Dublin:20280410T090000
DTEND;TZID=Europe/Dublin:20280410T100000
DTSTAMP:20260424T071713
CREATED:20260127T153017Z
LAST-MODIFIED:20260127T153017Z
UID:10000799-1838970000-1838973600@terenureswimmingpool.ie
SUMMARY:Free Swim
DESCRIPTION:
URL:https://terenureswimmingpool.ie/timetable/free-swim/2028-04-10/
LOCATION:Terenure College Swimming Pool
END:VEVENT
BEGIN:VEVENT
DTSTART;TZID=Europe/Dublin:20280411T090000
DTEND;TZID=Europe/Dublin:20280411T100000
DTSTAMP:20260424T071713
CREATED:20260127T153017Z
LAST-MODIFIED:20260127T153017Z
UID:10000800-1839056400-1839060000@terenureswimmingpool.ie
SUMMARY:Free Swim
DESCRIPTION:
URL:https://terenureswimmingpool.ie/timetable/free-swim/2028-04-11/
LOCATION:Terenure College Swimming Pool
END:VEVENT
BEGIN:VEVENT
DTSTART;TZID=Europe/Dublin:20280412T090000
DTEND;TZID=Europe/Dublin:20280412T100000
DTSTAMP:20260424T071713
CREATED:20260127T153017Z
LAST-MODIFIED:20260127T153017Z
UID:10000801-1839142800-1839146400@terenureswimmingpool.ie
SUMMARY:Free Swim
DESCRIPTION:
URL:https://terenureswimmingpool.ie/timetable/free-swim/2028-04-12/
LOCATION:Terenure College Swimming Pool
END:VEVENT
BEGIN:VEVENT
DTSTART;TZID=Europe/Dublin:20280413T090000
DTEND;TZID=Europe/Dublin:20280413T100000
DTSTAMP:20260424T071713
CREATED:20260127T153017Z
LAST-MODIFIED:20260127T153017Z
UID:10000802-1839229200-1839232800@terenureswimmingpool.ie
SUMMARY:Free Swim
DESCRIPTION:
URL:https://terenureswimmingpool.ie/timetable/free-swim/2028-04-13/
LOCATION:Terenure College Swimming Pool
END:VEVENT
BEGIN:VEVENT
DTSTART;TZID=Europe/Dublin:20280414T090000
DTEND;TZID=Europe/Dublin:20280414T100000
DTSTAMP:20260424T071713
CREATED:20260127T153017Z
LAST-MODIFIED:20260127T153017Z
UID:10000803-1839315600-1839319200@terenureswimmingpool.ie
SUMMARY:Free Swim
DESCRIPTION:
URL:https://terenureswimmingpool.ie/timetable/free-swim/2028-04-14/
LOCATION:Terenure College Swimming Pool
END:VEVENT
BEGIN:VEVENT
DTSTART;TZID=Europe/Dublin:20280415T090000
DTEND;TZID=Europe/Dublin:20280415T100000
DTSTAMP:20260424T071713
CREATED:20260127T153017Z
LAST-MODIFIED:20260127T153017Z
UID:10000804-1839402000-1839405600@terenureswimmingpool.ie
SUMMARY:Free Swim
DESCRIPTION:
URL:https://terenureswimmingpool.ie/timetable/free-swim/2028-04-15/
LOCATION:Terenure College Swimming Pool
END:VEVENT
BEGIN:VEVENT
DTSTART;TZID=Europe/Dublin:20280416T090000
DTEND;TZID=Europe/Dublin:20280416T100000
DTSTAMP:20260424T071713
CREATED:20260127T153017Z
LAST-MODIFIED:20260127T153017Z
UID:10000805-1839488400-1839492000@terenureswimmingpool.ie
SUMMARY:Free Swim
DESCRIPTION:
URL:https://terenureswimmingpool.ie/timetable/free-swim/2028-04-16/
LOCATION:Terenure College Swimming Pool
END:VEVENT
BEGIN:VEVENT
DTSTART;TZID=Europe/Dublin:20280417T090000
DTEND;TZID=Europe/Dublin:20280417T100000
DTSTAMP:20260424T071713
CREATED:20260127T153017Z
LAST-MODIFIED:20260127T153017Z
UID:10000806-1839574800-1839578400@terenureswimmingpool.ie
SUMMARY:Free Swim
DESCRIPTION:
URL:https://terenureswimmingpool.ie/timetable/free-swim/2028-04-17/
LOCATION:Terenure College Swimming Pool
END:VEVENT
BEGIN:VEVENT
DTSTART;TZID=Europe/Dublin:20280418T090000
DTEND;TZID=Europe/Dublin:20280418T100000
DTSTAMP:20260424T071713
CREATED:20260127T153017Z
LAST-MODIFIED:20260127T153017Z
UID:10000807-1839661200-1839664800@terenureswimmingpool.ie
SUMMARY:Free Swim
DESCRIPTION:
URL:https://terenureswimmingpool.ie/timetable/free-swim/2028-04-18/
LOCATION:Terenure College Swimming Pool
END:VEVENT
BEGIN:VEVENT
DTSTART;TZID=Europe/Dublin:20280419T090000
DTEND;TZID=Europe/Dublin:20280419T100000
DTSTAMP:20260424T071713
CREATED:20260127T153017Z
LAST-MODIFIED:20260127T153017Z
UID:10000808-1839747600-1839751200@terenureswimmingpool.ie
SUMMARY:Free Swim
DESCRIPTION:
URL:https://terenureswimmingpool.ie/timetable/free-swim/2028-04-19/
LOCATION:Terenure College Swimming Pool
END:VEVENT
BEGIN:VEVENT
DTSTART;TZID=Europe/Dublin:20280420T090000
DTEND;TZID=Europe/Dublin:20280420T100000
DTSTAMP:20260424T071714
CREATED:20260127T153017Z
LAST-MODIFIED:20260127T153017Z
UID:10000809-1839834000-1839837600@terenureswimmingpool.ie
SUMMARY:Free Swim
DESCRIPTION:
URL:https://terenureswimmingpool.ie/timetable/free-swim/2028-04-20/
LOCATION:Terenure College Swimming Pool
END:VEVENT
BEGIN:VEVENT
DTSTART;TZID=Europe/Dublin:20280421T090000
DTEND;TZID=Europe/Dublin:20280421T100000
DTSTAMP:20260424T071714
CREATED:20260127T153017Z
LAST-MODIFIED:20260127T153017Z
UID:10000810-1839920400-1839924000@terenureswimmingpool.ie
SUMMARY:Free Swim
DESCRIPTION:
URL:https://terenureswimmingpool.ie/timetable/free-swim/2028-04-21/
LOCATION:Terenure College Swimming Pool
END:VEVENT
BEGIN:VEVENT
DTSTART;TZID=Europe/Dublin:20280422T090000
DTEND;TZID=Europe/Dublin:20280422T100000
DTSTAMP:20260424T071714
CREATED:20260127T153017Z
LAST-MODIFIED:20260127T153017Z
UID:10000811-1840006800-1840010400@terenureswimmingpool.ie
SUMMARY:Free Swim
DESCRIPTION:
URL:https://terenureswimmingpool.ie/timetable/free-swim/2028-04-22/
LOCATION:Terenure College Swimming Pool
END:VEVENT
BEGIN:VEVENT
DTSTART;TZID=Europe/Dublin:20280423T090000
DTEND;TZID=Europe/Dublin:20280423T100000
DTSTAMP:20260424T071714
CREATED:20260127T153017Z
LAST-MODIFIED:20260127T153017Z
UID:10000812-1840093200-1840096800@terenureswimmingpool.ie
SUMMARY:Free Swim
DESCRIPTION:
URL:https://terenureswimmingpool.ie/timetable/free-swim/2028-04-23/
LOCATION:Terenure College Swimming Pool
END:VEVENT
BEGIN:VEVENT
DTSTART;TZID=Europe/Dublin:20280424T090000
DTEND;TZID=Europe/Dublin:20280424T100000
DTSTAMP:20260424T071714
CREATED:20260127T153017Z
LAST-MODIFIED:20260127T153017Z
UID:10000813-1840179600-1840183200@terenureswimmingpool.ie
SUMMARY:Free Swim
DESCRIPTION:
URL:https://terenureswimmingpool.ie/timetable/free-swim/2028-04-24/
LOCATION:Terenure College Swimming Pool
END:VEVENT
BEGIN:VEVENT
DTSTART;TZID=Europe/Dublin:20280425T090000
DTEND;TZID=Europe/Dublin:20280425T100000
DTSTAMP:20260424T071714
CREATED:20260127T153017Z
LAST-MODIFIED:20260127T153017Z
UID:10000814-1840266000-1840269600@terenureswimmingpool.ie
SUMMARY:Free Swim
DESCRIPTION:
URL:https://terenureswimmingpool.ie/timetable/free-swim/2028-04-25/
LOCATION:Terenure College Swimming Pool
END:VEVENT
BEGIN:VEVENT
DTSTART;TZID=Europe/Dublin:20280426T090000
DTEND;TZID=Europe/Dublin:20280426T100000
DTSTAMP:20260424T071714
CREATED:20260127T153017Z
LAST-MODIFIED:20260127T153017Z
UID:10000815-1840352400-1840356000@terenureswimmingpool.ie
SUMMARY:Free Swim
DESCRIPTION:
URL:https://terenureswimmingpool.ie/timetable/free-swim/2028-04-26/
LOCATION:Terenure College Swimming Pool
END:VEVENT
BEGIN:VEVENT
DTSTART;TZID=Europe/Dublin:20280427T090000
DTEND;TZID=Europe/Dublin:20280427T100000
DTSTAMP:20260424T071714
CREATED:20260127T153017Z
LAST-MODIFIED:20260127T153017Z
UID:10000816-1840438800-1840442400@terenureswimmingpool.ie
SUMMARY:Free Swim
DESCRIPTION:
URL:https://terenureswimmingpool.ie/timetable/free-swim/2028-04-27/
LOCATION:Terenure College Swimming Pool
END:VEVENT
BEGIN:VEVENT
DTSTART;TZID=Europe/Dublin:20280428T090000
DTEND;TZID=Europe/Dublin:20280428T100000
DTSTAMP:20260424T071714
CREATED:20260127T153017Z
LAST-MODIFIED:20260127T153017Z
UID:10000817-1840525200-1840528800@terenureswimmingpool.ie
SUMMARY:Free Swim
DESCRIPTION:
URL:https://terenureswimmingpool.ie/timetable/free-swim/2028-04-28/
LOCATION:Terenure College Swimming Pool
END:VEVENT
BEGIN:VEVENT
DTSTART;TZID=Europe/Dublin:20280429T090000
DTEND;TZID=Europe/Dublin:20280429T100000
DTSTAMP:20260424T071714
CREATED:20260127T153017Z
LAST-MODIFIED:20260127T153017Z
UID:10000818-1840611600-1840615200@terenureswimmingpool.ie
SUMMARY:Free Swim
DESCRIPTION:
URL:https://terenureswimmingpool.ie/timetable/free-swim/2028-04-29/
LOCATION:Terenure College Swimming Pool
END:VEVENT
BEGIN:VEVENT
DTSTART;TZID=Europe/Dublin:20280430T090000
DTEND;TZID=Europe/Dublin:20280430T100000
DTSTAMP:20260424T071714
CREATED:20260127T153017Z
LAST-MODIFIED:20260127T153017Z
UID:10000819-1840698000-1840701600@terenureswimmingpool.ie
SUMMARY:Free Swim
DESCRIPTION:
URL:https://terenureswimmingpool.ie/timetable/free-swim/2028-04-30/
LOCATION:Terenure College Swimming Pool
END:VEVENT
END:VCALENDAR