BEGIN:VCALENDAR
VERSION:2.0
PRODID:-//Terenure Swimming Pool - ECPv6.15.20//NONSGML v1.0//EN
CALSCALE:GREGORIAN
METHOD:PUBLISH
X-WR-CALNAME:Terenure Swimming Pool
X-ORIGINAL-URL:https://terenureswimmingpool.ie
X-WR-CALDESC:Events for Terenure Swimming Pool
REFRESH-INTERVAL;VALUE=DURATION:PT1H
X-Robots-Tag:noindex
X-PUBLISHED-TTL:PT1H
BEGIN:VTIMEZONE
TZID:Europe/Dublin
BEGIN:STANDARD
TZOFFSETFROM:+0000
TZOFFSETTO:+0100
TZNAME:IST
DTSTART:20270328T010000
END:STANDARD
BEGIN:DAYLIGHT
TZOFFSETFROM:+0100
TZOFFSETTO:+0000
TZNAME:GMT
DTSTART:20271031T010000
END:DAYLIGHT
BEGIN:STANDARD
TZOFFSETFROM:+0000
TZOFFSETTO:+0100
TZNAME:IST
DTSTART:20280326T010000
END:STANDARD
BEGIN:DAYLIGHT
TZOFFSETFROM:+0100
TZOFFSETTO:+0000
TZNAME:GMT
DTSTART:20281029T010000
END:DAYLIGHT
BEGIN:STANDARD
TZOFFSETFROM:+0000
TZOFFSETTO:+0100
TZNAME:IST
DTSTART:20290325T010000
END:STANDARD
BEGIN:DAYLIGHT
TZOFFSETFROM:+0100
TZOFFSETTO:+0000
TZNAME:GMT
DTSTART:20291028T010000
END:DAYLIGHT
END:VTIMEZONE
BEGIN:VEVENT
DTSTART;TZID=Europe/Dublin:20280508T090000
DTEND;TZID=Europe/Dublin:20280508T100000
DTSTAMP:20260424T104535
CREATED:20260127T153017Z
LAST-MODIFIED:20260127T153017Z
UID:10000827-1841389200-1841392800@terenureswimmingpool.ie
SUMMARY:Free Swim
DESCRIPTION:
URL:https://terenureswimmingpool.ie/timetable/free-swim/2028-05-08/
LOCATION:Terenure College Swimming Pool
END:VEVENT
BEGIN:VEVENT
DTSTART;TZID=Europe/Dublin:20280509T090000
DTEND;TZID=Europe/Dublin:20280509T100000
DTSTAMP:20260424T104535
CREATED:20260127T153017Z
LAST-MODIFIED:20260127T153017Z
UID:10000828-1841475600-1841479200@terenureswimmingpool.ie
SUMMARY:Free Swim
DESCRIPTION:
URL:https://terenureswimmingpool.ie/timetable/free-swim/2028-05-09/
LOCATION:Terenure College Swimming Pool
END:VEVENT
BEGIN:VEVENT
DTSTART;TZID=Europe/Dublin:20280510T090000
DTEND;TZID=Europe/Dublin:20280510T100000
DTSTAMP:20260424T104535
CREATED:20260127T153017Z
LAST-MODIFIED:20260127T153017Z
UID:10000829-1841562000-1841565600@terenureswimmingpool.ie
SUMMARY:Free Swim
DESCRIPTION:
URL:https://terenureswimmingpool.ie/timetable/free-swim/2028-05-10/
LOCATION:Terenure College Swimming Pool
END:VEVENT
BEGIN:VEVENT
DTSTART;TZID=Europe/Dublin:20280511T090000
DTEND;TZID=Europe/Dublin:20280511T100000
DTSTAMP:20260424T104535
CREATED:20260127T153017Z
LAST-MODIFIED:20260127T153017Z
UID:10000830-1841648400-1841652000@terenureswimmingpool.ie
SUMMARY:Free Swim
DESCRIPTION:
URL:https://terenureswimmingpool.ie/timetable/free-swim/2028-05-11/
LOCATION:Terenure College Swimming Pool
END:VEVENT
BEGIN:VEVENT
DTSTART;TZID=Europe/Dublin:20280512T090000
DTEND;TZID=Europe/Dublin:20280512T100000
DTSTAMP:20260424T104535
CREATED:20260127T153017Z
LAST-MODIFIED:20260127T153017Z
UID:10000831-1841734800-1841738400@terenureswimmingpool.ie
SUMMARY:Free Swim
DESCRIPTION:
URL:https://terenureswimmingpool.ie/timetable/free-swim/2028-05-12/
LOCATION:Terenure College Swimming Pool
END:VEVENT
BEGIN:VEVENT
DTSTART;TZID=Europe/Dublin:20280513T090000
DTEND;TZID=Europe/Dublin:20280513T100000
DTSTAMP:20260424T104535
CREATED:20260127T153017Z
LAST-MODIFIED:20260127T153017Z
UID:10000832-1841821200-1841824800@terenureswimmingpool.ie
SUMMARY:Free Swim
DESCRIPTION:
URL:https://terenureswimmingpool.ie/timetable/free-swim/2028-05-13/
LOCATION:Terenure College Swimming Pool
END:VEVENT
BEGIN:VEVENT
DTSTART;TZID=Europe/Dublin:20280514T090000
DTEND;TZID=Europe/Dublin:20280514T100000
DTSTAMP:20260424T104535
CREATED:20260127T153017Z
LAST-MODIFIED:20260127T153017Z
UID:10000833-1841907600-1841911200@terenureswimmingpool.ie
SUMMARY:Free Swim
DESCRIPTION:
URL:https://terenureswimmingpool.ie/timetable/free-swim/2028-05-14/
LOCATION:Terenure College Swimming Pool
END:VEVENT
BEGIN:VEVENT
DTSTART;TZID=Europe/Dublin:20280515T090000
DTEND;TZID=Europe/Dublin:20280515T100000
DTSTAMP:20260424T104535
CREATED:20260127T153017Z
LAST-MODIFIED:20260127T153017Z
UID:10000834-1841994000-1841997600@terenureswimmingpool.ie
SUMMARY:Free Swim
DESCRIPTION:
URL:https://terenureswimmingpool.ie/timetable/free-swim/2028-05-15/
LOCATION:Terenure College Swimming Pool
END:VEVENT
BEGIN:VEVENT
DTSTART;TZID=Europe/Dublin:20280516T090000
DTEND;TZID=Europe/Dublin:20280516T100000
DTSTAMP:20260424T104535
CREATED:20260127T153017Z
LAST-MODIFIED:20260127T153017Z
UID:10000835-1842080400-1842084000@terenureswimmingpool.ie
SUMMARY:Free Swim
DESCRIPTION:
URL:https://terenureswimmingpool.ie/timetable/free-swim/2028-05-16/
LOCATION:Terenure College Swimming Pool
END:VEVENT
BEGIN:VEVENT
DTSTART;TZID=Europe/Dublin:20280517T090000
DTEND;TZID=Europe/Dublin:20280517T100000
DTSTAMP:20260424T104535
CREATED:20260127T153017Z
LAST-MODIFIED:20260127T153017Z
UID:10000836-1842166800-1842170400@terenureswimmingpool.ie
SUMMARY:Free Swim
DESCRIPTION:
URL:https://terenureswimmingpool.ie/timetable/free-swim/2028-05-17/
LOCATION:Terenure College Swimming Pool
END:VEVENT
BEGIN:VEVENT
DTSTART;TZID=Europe/Dublin:20280518T090000
DTEND;TZID=Europe/Dublin:20280518T100000
DTSTAMP:20260424T104535
CREATED:20260127T153017Z
LAST-MODIFIED:20260127T153017Z
UID:10000837-1842253200-1842256800@terenureswimmingpool.ie
SUMMARY:Free Swim
DESCRIPTION:
URL:https://terenureswimmingpool.ie/timetable/free-swim/2028-05-18/
LOCATION:Terenure College Swimming Pool
END:VEVENT
BEGIN:VEVENT
DTSTART;TZID=Europe/Dublin:20280519T090000
DTEND;TZID=Europe/Dublin:20280519T100000
DTSTAMP:20260424T104535
CREATED:20260127T153017Z
LAST-MODIFIED:20260127T153017Z
UID:10000838-1842339600-1842343200@terenureswimmingpool.ie
SUMMARY:Free Swim
DESCRIPTION:
URL:https://terenureswimmingpool.ie/timetable/free-swim/2028-05-19/
LOCATION:Terenure College Swimming Pool
END:VEVENT
BEGIN:VEVENT
DTSTART;TZID=Europe/Dublin:20280520T090000
DTEND;TZID=Europe/Dublin:20280520T100000
DTSTAMP:20260424T104535
CREATED:20260127T153017Z
LAST-MODIFIED:20260127T153017Z
UID:10000839-1842426000-1842429600@terenureswimmingpool.ie
SUMMARY:Free Swim
DESCRIPTION:
URL:https://terenureswimmingpool.ie/timetable/free-swim/2028-05-20/
LOCATION:Terenure College Swimming Pool
END:VEVENT
BEGIN:VEVENT
DTSTART;TZID=Europe/Dublin:20280521T090000
DTEND;TZID=Europe/Dublin:20280521T100000
DTSTAMP:20260424T104535
CREATED:20260127T153017Z
LAST-MODIFIED:20260127T153017Z
UID:10000840-1842512400-1842516000@terenureswimmingpool.ie
SUMMARY:Free Swim
DESCRIPTION:
URL:https://terenureswimmingpool.ie/timetable/free-swim/2028-05-21/
LOCATION:Terenure College Swimming Pool
END:VEVENT
BEGIN:VEVENT
DTSTART;TZID=Europe/Dublin:20280522T090000
DTEND;TZID=Europe/Dublin:20280522T100000
DTSTAMP:20260424T104535
CREATED:20260127T153017Z
LAST-MODIFIED:20260127T153017Z
UID:10000841-1842598800-1842602400@terenureswimmingpool.ie
SUMMARY:Free Swim
DESCRIPTION:
URL:https://terenureswimmingpool.ie/timetable/free-swim/2028-05-22/
LOCATION:Terenure College Swimming Pool
END:VEVENT
BEGIN:VEVENT
DTSTART;TZID=Europe/Dublin:20280523T090000
DTEND;TZID=Europe/Dublin:20280523T100000
DTSTAMP:20260424T104535
CREATED:20260127T153017Z
LAST-MODIFIED:20260127T153017Z
UID:10000842-1842685200-1842688800@terenureswimmingpool.ie
SUMMARY:Free Swim
DESCRIPTION:
URL:https://terenureswimmingpool.ie/timetable/free-swim/2028-05-23/
LOCATION:Terenure College Swimming Pool
END:VEVENT
BEGIN:VEVENT
DTSTART;TZID=Europe/Dublin:20280524T090000
DTEND;TZID=Europe/Dublin:20280524T100000
DTSTAMP:20260424T104535
CREATED:20260127T153017Z
LAST-MODIFIED:20260127T153017Z
UID:10000843-1842771600-1842775200@terenureswimmingpool.ie
SUMMARY:Free Swim
DESCRIPTION:
URL:https://terenureswimmingpool.ie/timetable/free-swim/2028-05-24/
LOCATION:Terenure College Swimming Pool
END:VEVENT
BEGIN:VEVENT
DTSTART;TZID=Europe/Dublin:20280525T090000
DTEND;TZID=Europe/Dublin:20280525T100000
DTSTAMP:20260424T104535
CREATED:20260127T153017Z
LAST-MODIFIED:20260127T153017Z
UID:10000844-1842858000-1842861600@terenureswimmingpool.ie
SUMMARY:Free Swim
DESCRIPTION:
URL:https://terenureswimmingpool.ie/timetable/free-swim/2028-05-25/
LOCATION:Terenure College Swimming Pool
END:VEVENT
BEGIN:VEVENT
DTSTART;TZID=Europe/Dublin:20280526T090000
DTEND;TZID=Europe/Dublin:20280526T100000
DTSTAMP:20260424T104535
CREATED:20260127T153017Z
LAST-MODIFIED:20260127T153017Z
UID:10000845-1842944400-1842948000@terenureswimmingpool.ie
SUMMARY:Free Swim
DESCRIPTION:
URL:https://terenureswimmingpool.ie/timetable/free-swim/2028-05-26/
LOCATION:Terenure College Swimming Pool
END:VEVENT
BEGIN:VEVENT
DTSTART;TZID=Europe/Dublin:20280527T090000
DTEND;TZID=Europe/Dublin:20280527T100000
DTSTAMP:20260424T104535
CREATED:20260127T153017Z
LAST-MODIFIED:20260127T153017Z
UID:10000846-1843030800-1843034400@terenureswimmingpool.ie
SUMMARY:Free Swim
DESCRIPTION:
URL:https://terenureswimmingpool.ie/timetable/free-swim/2028-05-27/
LOCATION:Terenure College Swimming Pool
END:VEVENT
BEGIN:VEVENT
DTSTART;TZID=Europe/Dublin:20280528T090000
DTEND;TZID=Europe/Dublin:20280528T100000
DTSTAMP:20260424T104535
CREATED:20260127T153017Z
LAST-MODIFIED:20260127T153017Z
UID:10000847-1843117200-1843120800@terenureswimmingpool.ie
SUMMARY:Free Swim
DESCRIPTION:
URL:https://terenureswimmingpool.ie/timetable/free-swim/2028-05-28/
LOCATION:Terenure College Swimming Pool
END:VEVENT
BEGIN:VEVENT
DTSTART;TZID=Europe/Dublin:20280529T090000
DTEND;TZID=Europe/Dublin:20280529T100000
DTSTAMP:20260424T104535
CREATED:20260127T153017Z
LAST-MODIFIED:20260127T153017Z
UID:10000848-1843203600-1843207200@terenureswimmingpool.ie
SUMMARY:Free Swim
DESCRIPTION:
URL:https://terenureswimmingpool.ie/timetable/free-swim/2028-05-29/
LOCATION:Terenure College Swimming Pool
END:VEVENT
BEGIN:VEVENT
DTSTART;TZID=Europe/Dublin:20280530T090000
DTEND;TZID=Europe/Dublin:20280530T100000
DTSTAMP:20260424T104535
CREATED:20260127T153017Z
LAST-MODIFIED:20260127T153017Z
UID:10000849-1843290000-1843293600@terenureswimmingpool.ie
SUMMARY:Free Swim
DESCRIPTION:
URL:https://terenureswimmingpool.ie/timetable/free-swim/2028-05-30/
LOCATION:Terenure College Swimming Pool
END:VEVENT
BEGIN:VEVENT
DTSTART;TZID=Europe/Dublin:20280531T090000
DTEND;TZID=Europe/Dublin:20280531T100000
DTSTAMP:20260424T104535
CREATED:20260127T153017Z
LAST-MODIFIED:20260127T153017Z
UID:10000850-1843376400-1843380000@terenureswimmingpool.ie
SUMMARY:Free Swim
DESCRIPTION:
URL:https://terenureswimmingpool.ie/timetable/free-swim/2028-05-31/
LOCATION:Terenure College Swimming Pool
END:VEVENT
BEGIN:VEVENT
DTSTART;TZID=Europe/Dublin:20280601T090000
DTEND;TZID=Europe/Dublin:20280601T100000
DTSTAMP:20260424T104535
CREATED:20260127T153017Z
LAST-MODIFIED:20260127T153017Z
UID:10000851-1843462800-1843466400@terenureswimmingpool.ie
SUMMARY:Free Swim
DESCRIPTION:
URL:https://terenureswimmingpool.ie/timetable/free-swim/2028-06-01/
LOCATION:Terenure College Swimming Pool
END:VEVENT
BEGIN:VEVENT
DTSTART;TZID=Europe/Dublin:20280602T090000
DTEND;TZID=Europe/Dublin:20280602T100000
DTSTAMP:20260424T104535
CREATED:20260127T153017Z
LAST-MODIFIED:20260127T153017Z
UID:10000852-1843549200-1843552800@terenureswimmingpool.ie
SUMMARY:Free Swim
DESCRIPTION:
URL:https://terenureswimmingpool.ie/timetable/free-swim/2028-06-02/
LOCATION:Terenure College Swimming Pool
END:VEVENT
BEGIN:VEVENT
DTSTART;TZID=Europe/Dublin:20280603T090000
DTEND;TZID=Europe/Dublin:20280603T100000
DTSTAMP:20260424T104535
CREATED:20260127T153017Z
LAST-MODIFIED:20260127T153017Z
UID:10000853-1843635600-1843639200@terenureswimmingpool.ie
SUMMARY:Free Swim
DESCRIPTION:
URL:https://terenureswimmingpool.ie/timetable/free-swim/2028-06-03/
LOCATION:Terenure College Swimming Pool
END:VEVENT
BEGIN:VEVENT
DTSTART;TZID=Europe/Dublin:20280604T090000
DTEND;TZID=Europe/Dublin:20280604T100000
DTSTAMP:20260424T104535
CREATED:20260127T153017Z
LAST-MODIFIED:20260127T153017Z
UID:10000854-1843722000-1843725600@terenureswimmingpool.ie
SUMMARY:Free Swim
DESCRIPTION:
URL:https://terenureswimmingpool.ie/timetable/free-swim/2028-06-04/
LOCATION:Terenure College Swimming Pool
END:VEVENT
BEGIN:VEVENT
DTSTART;TZID=Europe/Dublin:20280605T090000
DTEND;TZID=Europe/Dublin:20280605T100000
DTSTAMP:20260424T104535
CREATED:20260127T153017Z
LAST-MODIFIED:20260127T153017Z
UID:10000855-1843808400-1843812000@terenureswimmingpool.ie
SUMMARY:Free Swim
DESCRIPTION:
URL:https://terenureswimmingpool.ie/timetable/free-swim/2028-06-05/
LOCATION:Terenure College Swimming Pool
END:VEVENT
BEGIN:VEVENT
DTSTART;TZID=Europe/Dublin:20280606T090000
DTEND;TZID=Europe/Dublin:20280606T100000
DTSTAMP:20260424T104535
CREATED:20260127T153017Z
LAST-MODIFIED:20260127T153017Z
UID:10000856-1843894800-1843898400@terenureswimmingpool.ie
SUMMARY:Free Swim
DESCRIPTION:
URL:https://terenureswimmingpool.ie/timetable/free-swim/2028-06-06/
LOCATION:Terenure College Swimming Pool
END:VEVENT
END:VCALENDAR