BEGIN:VCALENDAR
VERSION:2.0
PRODID:-//Terenure Swimming Pool - ECPv6.15.20//NONSGML v1.0//EN
CALSCALE:GREGORIAN
METHOD:PUBLISH
X-WR-CALNAME:Terenure Swimming Pool
X-ORIGINAL-URL:https://terenureswimmingpool.ie
X-WR-CALDESC:Events for Terenure Swimming Pool
REFRESH-INTERVAL;VALUE=DURATION:PT1H
X-Robots-Tag:noindex
X-PUBLISHED-TTL:PT1H
BEGIN:VTIMEZONE
TZID:Europe/Dublin
BEGIN:STANDARD
TZOFFSETFROM:+0000
TZOFFSETTO:+0100
TZNAME:IST
DTSTART:20270328T010000
END:STANDARD
BEGIN:DAYLIGHT
TZOFFSETFROM:+0100
TZOFFSETTO:+0000
TZNAME:GMT
DTSTART:20271031T010000
END:DAYLIGHT
BEGIN:STANDARD
TZOFFSETFROM:+0000
TZOFFSETTO:+0100
TZNAME:IST
DTSTART:20280326T010000
END:STANDARD
BEGIN:DAYLIGHT
TZOFFSETFROM:+0100
TZOFFSETTO:+0000
TZNAME:GMT
DTSTART:20281029T010000
END:DAYLIGHT
BEGIN:STANDARD
TZOFFSETFROM:+0000
TZOFFSETTO:+0100
TZNAME:IST
DTSTART:20290325T010000
END:STANDARD
BEGIN:DAYLIGHT
TZOFFSETFROM:+0100
TZOFFSETTO:+0000
TZNAME:GMT
DTSTART:20291028T010000
END:DAYLIGHT
END:VTIMEZONE
BEGIN:VEVENT
DTSTART;TZID=Europe/Dublin:20280613T090000
DTEND;TZID=Europe/Dublin:20280613T100000
DTSTAMP:20260424T145504
CREATED:20260127T153017Z
LAST-MODIFIED:20260127T153017Z
UID:10000863-1844499600-1844503200@terenureswimmingpool.ie
SUMMARY:Free Swim
DESCRIPTION:
URL:https://terenureswimmingpool.ie/timetable/free-swim/2028-06-13/
LOCATION:Terenure College Swimming Pool
END:VEVENT
BEGIN:VEVENT
DTSTART;TZID=Europe/Dublin:20280614T090000
DTEND;TZID=Europe/Dublin:20280614T100000
DTSTAMP:20260424T145504
CREATED:20260127T153017Z
LAST-MODIFIED:20260127T153017Z
UID:10000864-1844586000-1844589600@terenureswimmingpool.ie
SUMMARY:Free Swim
DESCRIPTION:
URL:https://terenureswimmingpool.ie/timetable/free-swim/2028-06-14/
LOCATION:Terenure College Swimming Pool
END:VEVENT
BEGIN:VEVENT
DTSTART;TZID=Europe/Dublin:20280615T090000
DTEND;TZID=Europe/Dublin:20280615T100000
DTSTAMP:20260424T145504
CREATED:20260127T153017Z
LAST-MODIFIED:20260127T153017Z
UID:10000865-1844672400-1844676000@terenureswimmingpool.ie
SUMMARY:Free Swim
DESCRIPTION:
URL:https://terenureswimmingpool.ie/timetable/free-swim/2028-06-15/
LOCATION:Terenure College Swimming Pool
END:VEVENT
BEGIN:VEVENT
DTSTART;TZID=Europe/Dublin:20280616T090000
DTEND;TZID=Europe/Dublin:20280616T100000
DTSTAMP:20260424T145504
CREATED:20260127T153017Z
LAST-MODIFIED:20260127T153017Z
UID:10000866-1844758800-1844762400@terenureswimmingpool.ie
SUMMARY:Free Swim
DESCRIPTION:
URL:https://terenureswimmingpool.ie/timetable/free-swim/2028-06-16/
LOCATION:Terenure College Swimming Pool
END:VEVENT
BEGIN:VEVENT
DTSTART;TZID=Europe/Dublin:20280617T090000
DTEND;TZID=Europe/Dublin:20280617T100000
DTSTAMP:20260424T145504
CREATED:20260127T153017Z
LAST-MODIFIED:20260127T153017Z
UID:10000867-1844845200-1844848800@terenureswimmingpool.ie
SUMMARY:Free Swim
DESCRIPTION:
URL:https://terenureswimmingpool.ie/timetable/free-swim/2028-06-17/
LOCATION:Terenure College Swimming Pool
END:VEVENT
BEGIN:VEVENT
DTSTART;TZID=Europe/Dublin:20280618T090000
DTEND;TZID=Europe/Dublin:20280618T100000
DTSTAMP:20260424T145504
CREATED:20260127T153017Z
LAST-MODIFIED:20260127T153017Z
UID:10000868-1844931600-1844935200@terenureswimmingpool.ie
SUMMARY:Free Swim
DESCRIPTION:
URL:https://terenureswimmingpool.ie/timetable/free-swim/2028-06-18/
LOCATION:Terenure College Swimming Pool
END:VEVENT
BEGIN:VEVENT
DTSTART;TZID=Europe/Dublin:20280619T090000
DTEND;TZID=Europe/Dublin:20280619T100000
DTSTAMP:20260424T145504
CREATED:20260127T153017Z
LAST-MODIFIED:20260127T153017Z
UID:10000869-1845018000-1845021600@terenureswimmingpool.ie
SUMMARY:Free Swim
DESCRIPTION:
URL:https://terenureswimmingpool.ie/timetable/free-swim/2028-06-19/
LOCATION:Terenure College Swimming Pool
END:VEVENT
BEGIN:VEVENT
DTSTART;TZID=Europe/Dublin:20280620T090000
DTEND;TZID=Europe/Dublin:20280620T100000
DTSTAMP:20260424T145504
CREATED:20260127T153017Z
LAST-MODIFIED:20260127T153017Z
UID:10000870-1845104400-1845108000@terenureswimmingpool.ie
SUMMARY:Free Swim
DESCRIPTION:
URL:https://terenureswimmingpool.ie/timetable/free-swim/2028-06-20/
LOCATION:Terenure College Swimming Pool
END:VEVENT
BEGIN:VEVENT
DTSTART;TZID=Europe/Dublin:20280621T090000
DTEND;TZID=Europe/Dublin:20280621T100000
DTSTAMP:20260424T145504
CREATED:20260127T153017Z
LAST-MODIFIED:20260127T153017Z
UID:10000871-1845190800-1845194400@terenureswimmingpool.ie
SUMMARY:Free Swim
DESCRIPTION:
URL:https://terenureswimmingpool.ie/timetable/free-swim/2028-06-21/
LOCATION:Terenure College Swimming Pool
END:VEVENT
BEGIN:VEVENT
DTSTART;TZID=Europe/Dublin:20280622T090000
DTEND;TZID=Europe/Dublin:20280622T100000
DTSTAMP:20260424T145504
CREATED:20260127T153017Z
LAST-MODIFIED:20260127T153017Z
UID:10000872-1845277200-1845280800@terenureswimmingpool.ie
SUMMARY:Free Swim
DESCRIPTION:
URL:https://terenureswimmingpool.ie/timetable/free-swim/2028-06-22/
LOCATION:Terenure College Swimming Pool
END:VEVENT
BEGIN:VEVENT
DTSTART;TZID=Europe/Dublin:20280623T090000
DTEND;TZID=Europe/Dublin:20280623T100000
DTSTAMP:20260424T145504
CREATED:20260127T153017Z
LAST-MODIFIED:20260127T153017Z
UID:10000873-1845363600-1845367200@terenureswimmingpool.ie
SUMMARY:Free Swim
DESCRIPTION:
URL:https://terenureswimmingpool.ie/timetable/free-swim/2028-06-23/
LOCATION:Terenure College Swimming Pool
END:VEVENT
BEGIN:VEVENT
DTSTART;TZID=Europe/Dublin:20280624T090000
DTEND;TZID=Europe/Dublin:20280624T100000
DTSTAMP:20260424T145504
CREATED:20260127T153017Z
LAST-MODIFIED:20260127T153017Z
UID:10000874-1845450000-1845453600@terenureswimmingpool.ie
SUMMARY:Free Swim
DESCRIPTION:
URL:https://terenureswimmingpool.ie/timetable/free-swim/2028-06-24/
LOCATION:Terenure College Swimming Pool
END:VEVENT
BEGIN:VEVENT
DTSTART;TZID=Europe/Dublin:20280625T090000
DTEND;TZID=Europe/Dublin:20280625T100000
DTSTAMP:20260424T145504
CREATED:20260127T153017Z
LAST-MODIFIED:20260127T153017Z
UID:10000875-1845536400-1845540000@terenureswimmingpool.ie
SUMMARY:Free Swim
DESCRIPTION:
URL:https://terenureswimmingpool.ie/timetable/free-swim/2028-06-25/
LOCATION:Terenure College Swimming Pool
END:VEVENT
BEGIN:VEVENT
DTSTART;TZID=Europe/Dublin:20280626T090000
DTEND;TZID=Europe/Dublin:20280626T100000
DTSTAMP:20260424T145504
CREATED:20260127T153017Z
LAST-MODIFIED:20260127T153017Z
UID:10000876-1845622800-1845626400@terenureswimmingpool.ie
SUMMARY:Free Swim
DESCRIPTION:
URL:https://terenureswimmingpool.ie/timetable/free-swim/2028-06-26/
LOCATION:Terenure College Swimming Pool
END:VEVENT
BEGIN:VEVENT
DTSTART;TZID=Europe/Dublin:20280627T090000
DTEND;TZID=Europe/Dublin:20280627T100000
DTSTAMP:20260424T145504
CREATED:20260127T153017Z
LAST-MODIFIED:20260127T153017Z
UID:10000877-1845709200-1845712800@terenureswimmingpool.ie
SUMMARY:Free Swim
DESCRIPTION:
URL:https://terenureswimmingpool.ie/timetable/free-swim/2028-06-27/
LOCATION:Terenure College Swimming Pool
END:VEVENT
BEGIN:VEVENT
DTSTART;TZID=Europe/Dublin:20280628T090000
DTEND;TZID=Europe/Dublin:20280628T100000
DTSTAMP:20260424T145504
CREATED:20260127T153017Z
LAST-MODIFIED:20260127T153017Z
UID:10000878-1845795600-1845799200@terenureswimmingpool.ie
SUMMARY:Free Swim
DESCRIPTION:
URL:https://terenureswimmingpool.ie/timetable/free-swim/2028-06-28/
LOCATION:Terenure College Swimming Pool
END:VEVENT
BEGIN:VEVENT
DTSTART;TZID=Europe/Dublin:20280629T090000
DTEND;TZID=Europe/Dublin:20280629T100000
DTSTAMP:20260424T145504
CREATED:20260127T153017Z
LAST-MODIFIED:20260127T153017Z
UID:10000879-1845882000-1845885600@terenureswimmingpool.ie
SUMMARY:Free Swim
DESCRIPTION:
URL:https://terenureswimmingpool.ie/timetable/free-swim/2028-06-29/
LOCATION:Terenure College Swimming Pool
END:VEVENT
BEGIN:VEVENT
DTSTART;TZID=Europe/Dublin:20280630T090000
DTEND;TZID=Europe/Dublin:20280630T100000
DTSTAMP:20260424T145504
CREATED:20260127T153017Z
LAST-MODIFIED:20260127T153017Z
UID:10000880-1845968400-1845972000@terenureswimmingpool.ie
SUMMARY:Free Swim
DESCRIPTION:
URL:https://terenureswimmingpool.ie/timetable/free-swim/2028-06-30/
LOCATION:Terenure College Swimming Pool
END:VEVENT
BEGIN:VEVENT
DTSTART;TZID=Europe/Dublin:20280701T090000
DTEND;TZID=Europe/Dublin:20280701T100000
DTSTAMP:20260424T145504
CREATED:20260127T153017Z
LAST-MODIFIED:20260127T153017Z
UID:10000881-1846054800-1846058400@terenureswimmingpool.ie
SUMMARY:Free Swim
DESCRIPTION:
URL:https://terenureswimmingpool.ie/timetable/free-swim/2028-07-01/
LOCATION:Terenure College Swimming Pool
END:VEVENT
BEGIN:VEVENT
DTSTART;TZID=Europe/Dublin:20280702T090000
DTEND;TZID=Europe/Dublin:20280702T100000
DTSTAMP:20260424T145504
CREATED:20260127T153017Z
LAST-MODIFIED:20260127T153017Z
UID:10000882-1846141200-1846144800@terenureswimmingpool.ie
SUMMARY:Free Swim
DESCRIPTION:
URL:https://terenureswimmingpool.ie/timetable/free-swim/2028-07-02/
LOCATION:Terenure College Swimming Pool
END:VEVENT
BEGIN:VEVENT
DTSTART;TZID=Europe/Dublin:20280703T090000
DTEND;TZID=Europe/Dublin:20280703T100000
DTSTAMP:20260424T145504
CREATED:20260127T153017Z
LAST-MODIFIED:20260127T153017Z
UID:10000883-1846227600-1846231200@terenureswimmingpool.ie
SUMMARY:Free Swim
DESCRIPTION:
URL:https://terenureswimmingpool.ie/timetable/free-swim/2028-07-03/
LOCATION:Terenure College Swimming Pool
END:VEVENT
BEGIN:VEVENT
DTSTART;TZID=Europe/Dublin:20280704T090000
DTEND;TZID=Europe/Dublin:20280704T100000
DTSTAMP:20260424T145504
CREATED:20260127T153017Z
LAST-MODIFIED:20260127T153017Z
UID:10000884-1846314000-1846317600@terenureswimmingpool.ie
SUMMARY:Free Swim
DESCRIPTION:
URL:https://terenureswimmingpool.ie/timetable/free-swim/2028-07-04/
LOCATION:Terenure College Swimming Pool
END:VEVENT
BEGIN:VEVENT
DTSTART;TZID=Europe/Dublin:20280705T090000
DTEND;TZID=Europe/Dublin:20280705T100000
DTSTAMP:20260424T145504
CREATED:20260127T153017Z
LAST-MODIFIED:20260127T153017Z
UID:10000885-1846400400-1846404000@terenureswimmingpool.ie
SUMMARY:Free Swim
DESCRIPTION:
URL:https://terenureswimmingpool.ie/timetable/free-swim/2028-07-05/
LOCATION:Terenure College Swimming Pool
END:VEVENT
BEGIN:VEVENT
DTSTART;TZID=Europe/Dublin:20280706T090000
DTEND;TZID=Europe/Dublin:20280706T100000
DTSTAMP:20260424T145504
CREATED:20260127T153017Z
LAST-MODIFIED:20260127T153017Z
UID:10000886-1846486800-1846490400@terenureswimmingpool.ie
SUMMARY:Free Swim
DESCRIPTION:
URL:https://terenureswimmingpool.ie/timetable/free-swim/2028-07-06/
LOCATION:Terenure College Swimming Pool
END:VEVENT
BEGIN:VEVENT
DTSTART;TZID=Europe/Dublin:20280707T090000
DTEND;TZID=Europe/Dublin:20280707T100000
DTSTAMP:20260424T145504
CREATED:20260127T153017Z
LAST-MODIFIED:20260127T153017Z
UID:10000887-1846573200-1846576800@terenureswimmingpool.ie
SUMMARY:Free Swim
DESCRIPTION:
URL:https://terenureswimmingpool.ie/timetable/free-swim/2028-07-07/
LOCATION:Terenure College Swimming Pool
END:VEVENT
BEGIN:VEVENT
DTSTART;TZID=Europe/Dublin:20280708T090000
DTEND;TZID=Europe/Dublin:20280708T100000
DTSTAMP:20260424T145504
CREATED:20260127T153017Z
LAST-MODIFIED:20260127T153017Z
UID:10000888-1846659600-1846663200@terenureswimmingpool.ie
SUMMARY:Free Swim
DESCRIPTION:
URL:https://terenureswimmingpool.ie/timetable/free-swim/2028-07-08/
LOCATION:Terenure College Swimming Pool
END:VEVENT
BEGIN:VEVENT
DTSTART;TZID=Europe/Dublin:20280709T090000
DTEND;TZID=Europe/Dublin:20280709T100000
DTSTAMP:20260424T145504
CREATED:20260127T153017Z
LAST-MODIFIED:20260127T153017Z
UID:10000889-1846746000-1846749600@terenureswimmingpool.ie
SUMMARY:Free Swim
DESCRIPTION:
URL:https://terenureswimmingpool.ie/timetable/free-swim/2028-07-09/
LOCATION:Terenure College Swimming Pool
END:VEVENT
BEGIN:VEVENT
DTSTART;TZID=Europe/Dublin:20280710T090000
DTEND;TZID=Europe/Dublin:20280710T100000
DTSTAMP:20260424T145504
CREATED:20260127T153017Z
LAST-MODIFIED:20260127T153017Z
UID:10000890-1846832400-1846836000@terenureswimmingpool.ie
SUMMARY:Free Swim
DESCRIPTION:
URL:https://terenureswimmingpool.ie/timetable/free-swim/2028-07-10/
LOCATION:Terenure College Swimming Pool
END:VEVENT
BEGIN:VEVENT
DTSTART;TZID=Europe/Dublin:20280711T090000
DTEND;TZID=Europe/Dublin:20280711T100000
DTSTAMP:20260424T145504
CREATED:20260127T153017Z
LAST-MODIFIED:20260127T153017Z
UID:10000891-1846918800-1846922400@terenureswimmingpool.ie
SUMMARY:Free Swim
DESCRIPTION:
URL:https://terenureswimmingpool.ie/timetable/free-swim/2028-07-11/
LOCATION:Terenure College Swimming Pool
END:VEVENT
BEGIN:VEVENT
DTSTART;TZID=Europe/Dublin:20280712T090000
DTEND;TZID=Europe/Dublin:20280712T100000
DTSTAMP:20260424T145504
CREATED:20260127T153017Z
LAST-MODIFIED:20260127T153017Z
UID:10000892-1847005200-1847008800@terenureswimmingpool.ie
SUMMARY:Free Swim
DESCRIPTION:
URL:https://terenureswimmingpool.ie/timetable/free-swim/2028-07-12/
LOCATION:Terenure College Swimming Pool
END:VEVENT
END:VCALENDAR