BEGIN:VCALENDAR
VERSION:2.0
PRODID:-//Terenure Swimming Pool - ECPv6.15.20//NONSGML v1.0//EN
CALSCALE:GREGORIAN
METHOD:PUBLISH
X-WR-CALNAME:Terenure Swimming Pool
X-ORIGINAL-URL:https://terenureswimmingpool.ie
X-WR-CALDESC:Events for Terenure Swimming Pool
REFRESH-INTERVAL;VALUE=DURATION:PT1H
X-Robots-Tag:noindex
X-PUBLISHED-TTL:PT1H
BEGIN:VTIMEZONE
TZID:Europe/Dublin
BEGIN:STANDARD
TZOFFSETFROM:+0000
TZOFFSETTO:+0100
TZNAME:IST
DTSTART:20270328T010000
END:STANDARD
BEGIN:DAYLIGHT
TZOFFSETFROM:+0100
TZOFFSETTO:+0000
TZNAME:GMT
DTSTART:20271031T010000
END:DAYLIGHT
BEGIN:STANDARD
TZOFFSETFROM:+0000
TZOFFSETTO:+0100
TZNAME:IST
DTSTART:20280326T010000
END:STANDARD
BEGIN:DAYLIGHT
TZOFFSETFROM:+0100
TZOFFSETTO:+0000
TZNAME:GMT
DTSTART:20281029T010000
END:DAYLIGHT
BEGIN:STANDARD
TZOFFSETFROM:+0000
TZOFFSETTO:+0100
TZNAME:IST
DTSTART:20290325T010000
END:STANDARD
BEGIN:DAYLIGHT
TZOFFSETFROM:+0100
TZOFFSETTO:+0000
TZNAME:GMT
DTSTART:20291028T010000
END:DAYLIGHT
END:VTIMEZONE
BEGIN:VEVENT
DTSTART;TZID=Europe/Dublin:20280707T090000
DTEND;TZID=Europe/Dublin:20280707T100000
DTSTAMP:20260424T173244
CREATED:20260127T153017Z
LAST-MODIFIED:20260127T153017Z
UID:10000887-1846573200-1846576800@terenureswimmingpool.ie
SUMMARY:Free Swim
DESCRIPTION:
URL:https://terenureswimmingpool.ie/timetable/free-swim/2028-07-07/
LOCATION:Terenure College Swimming Pool
END:VEVENT
BEGIN:VEVENT
DTSTART;TZID=Europe/Dublin:20280708T090000
DTEND;TZID=Europe/Dublin:20280708T100000
DTSTAMP:20260424T173244
CREATED:20260127T153017Z
LAST-MODIFIED:20260127T153017Z
UID:10000888-1846659600-1846663200@terenureswimmingpool.ie
SUMMARY:Free Swim
DESCRIPTION:
URL:https://terenureswimmingpool.ie/timetable/free-swim/2028-07-08/
LOCATION:Terenure College Swimming Pool
END:VEVENT
BEGIN:VEVENT
DTSTART;TZID=Europe/Dublin:20280709T090000
DTEND;TZID=Europe/Dublin:20280709T100000
DTSTAMP:20260424T173244
CREATED:20260127T153017Z
LAST-MODIFIED:20260127T153017Z
UID:10000889-1846746000-1846749600@terenureswimmingpool.ie
SUMMARY:Free Swim
DESCRIPTION:
URL:https://terenureswimmingpool.ie/timetable/free-swim/2028-07-09/
LOCATION:Terenure College Swimming Pool
END:VEVENT
BEGIN:VEVENT
DTSTART;TZID=Europe/Dublin:20280710T090000
DTEND;TZID=Europe/Dublin:20280710T100000
DTSTAMP:20260424T173244
CREATED:20260127T153017Z
LAST-MODIFIED:20260127T153017Z
UID:10000890-1846832400-1846836000@terenureswimmingpool.ie
SUMMARY:Free Swim
DESCRIPTION:
URL:https://terenureswimmingpool.ie/timetable/free-swim/2028-07-10/
LOCATION:Terenure College Swimming Pool
END:VEVENT
BEGIN:VEVENT
DTSTART;TZID=Europe/Dublin:20280711T090000
DTEND;TZID=Europe/Dublin:20280711T100000
DTSTAMP:20260424T173244
CREATED:20260127T153017Z
LAST-MODIFIED:20260127T153017Z
UID:10000891-1846918800-1846922400@terenureswimmingpool.ie
SUMMARY:Free Swim
DESCRIPTION:
URL:https://terenureswimmingpool.ie/timetable/free-swim/2028-07-11/
LOCATION:Terenure College Swimming Pool
END:VEVENT
BEGIN:VEVENT
DTSTART;TZID=Europe/Dublin:20280712T090000
DTEND;TZID=Europe/Dublin:20280712T100000
DTSTAMP:20260424T173244
CREATED:20260127T153017Z
LAST-MODIFIED:20260127T153017Z
UID:10000892-1847005200-1847008800@terenureswimmingpool.ie
SUMMARY:Free Swim
DESCRIPTION:
URL:https://terenureswimmingpool.ie/timetable/free-swim/2028-07-12/
LOCATION:Terenure College Swimming Pool
END:VEVENT
BEGIN:VEVENT
DTSTART;TZID=Europe/Dublin:20280713T090000
DTEND;TZID=Europe/Dublin:20280713T100000
DTSTAMP:20260424T173244
CREATED:20260127T153017Z
LAST-MODIFIED:20260127T153017Z
UID:10000893-1847091600-1847095200@terenureswimmingpool.ie
SUMMARY:Free Swim
DESCRIPTION:
URL:https://terenureswimmingpool.ie/timetable/free-swim/2028-07-13/
LOCATION:Terenure College Swimming Pool
END:VEVENT
BEGIN:VEVENT
DTSTART;TZID=Europe/Dublin:20280714T090000
DTEND;TZID=Europe/Dublin:20280714T100000
DTSTAMP:20260424T173244
CREATED:20260127T153017Z
LAST-MODIFIED:20260127T153017Z
UID:10000894-1847178000-1847181600@terenureswimmingpool.ie
SUMMARY:Free Swim
DESCRIPTION:
URL:https://terenureswimmingpool.ie/timetable/free-swim/2028-07-14/
LOCATION:Terenure College Swimming Pool
END:VEVENT
BEGIN:VEVENT
DTSTART;TZID=Europe/Dublin:20280715T090000
DTEND;TZID=Europe/Dublin:20280715T100000
DTSTAMP:20260424T173244
CREATED:20260127T153017Z
LAST-MODIFIED:20260127T153017Z
UID:10000895-1847264400-1847268000@terenureswimmingpool.ie
SUMMARY:Free Swim
DESCRIPTION:
URL:https://terenureswimmingpool.ie/timetable/free-swim/2028-07-15/
LOCATION:Terenure College Swimming Pool
END:VEVENT
BEGIN:VEVENT
DTSTART;TZID=Europe/Dublin:20280716T090000
DTEND;TZID=Europe/Dublin:20280716T100000
DTSTAMP:20260424T173244
CREATED:20260127T153017Z
LAST-MODIFIED:20260127T153017Z
UID:10000896-1847350800-1847354400@terenureswimmingpool.ie
SUMMARY:Free Swim
DESCRIPTION:
URL:https://terenureswimmingpool.ie/timetable/free-swim/2028-07-16/
LOCATION:Terenure College Swimming Pool
END:VEVENT
BEGIN:VEVENT
DTSTART;TZID=Europe/Dublin:20280717T090000
DTEND;TZID=Europe/Dublin:20280717T100000
DTSTAMP:20260424T173244
CREATED:20260127T153017Z
LAST-MODIFIED:20260127T153017Z
UID:10000897-1847437200-1847440800@terenureswimmingpool.ie
SUMMARY:Free Swim
DESCRIPTION:
URL:https://terenureswimmingpool.ie/timetable/free-swim/2028-07-17/
LOCATION:Terenure College Swimming Pool
END:VEVENT
BEGIN:VEVENT
DTSTART;TZID=Europe/Dublin:20280718T090000
DTEND;TZID=Europe/Dublin:20280718T100000
DTSTAMP:20260424T173244
CREATED:20260127T153017Z
LAST-MODIFIED:20260127T153017Z
UID:10000898-1847523600-1847527200@terenureswimmingpool.ie
SUMMARY:Free Swim
DESCRIPTION:
URL:https://terenureswimmingpool.ie/timetable/free-swim/2028-07-18/
LOCATION:Terenure College Swimming Pool
END:VEVENT
BEGIN:VEVENT
DTSTART;TZID=Europe/Dublin:20280719T090000
DTEND;TZID=Europe/Dublin:20280719T100000
DTSTAMP:20260424T173244
CREATED:20260127T153017Z
LAST-MODIFIED:20260127T153017Z
UID:10000899-1847610000-1847613600@terenureswimmingpool.ie
SUMMARY:Free Swim
DESCRIPTION:
URL:https://terenureswimmingpool.ie/timetable/free-swim/2028-07-19/
LOCATION:Terenure College Swimming Pool
END:VEVENT
BEGIN:VEVENT
DTSTART;TZID=Europe/Dublin:20280720T090000
DTEND;TZID=Europe/Dublin:20280720T100000
DTSTAMP:20260424T173244
CREATED:20260127T153017Z
LAST-MODIFIED:20260127T153017Z
UID:10000900-1847696400-1847700000@terenureswimmingpool.ie
SUMMARY:Free Swim
DESCRIPTION:
URL:https://terenureswimmingpool.ie/timetable/free-swim/2028-07-20/
LOCATION:Terenure College Swimming Pool
END:VEVENT
BEGIN:VEVENT
DTSTART;TZID=Europe/Dublin:20280721T090000
DTEND;TZID=Europe/Dublin:20280721T100000
DTSTAMP:20260424T173244
CREATED:20260127T153017Z
LAST-MODIFIED:20260127T153017Z
UID:10000901-1847782800-1847786400@terenureswimmingpool.ie
SUMMARY:Free Swim
DESCRIPTION:
URL:https://terenureswimmingpool.ie/timetable/free-swim/2028-07-21/
LOCATION:Terenure College Swimming Pool
END:VEVENT
BEGIN:VEVENT
DTSTART;TZID=Europe/Dublin:20280722T090000
DTEND;TZID=Europe/Dublin:20280722T100000
DTSTAMP:20260424T173244
CREATED:20260127T153017Z
LAST-MODIFIED:20260127T153017Z
UID:10000902-1847869200-1847872800@terenureswimmingpool.ie
SUMMARY:Free Swim
DESCRIPTION:
URL:https://terenureswimmingpool.ie/timetable/free-swim/2028-07-22/
LOCATION:Terenure College Swimming Pool
END:VEVENT
BEGIN:VEVENT
DTSTART;TZID=Europe/Dublin:20280723T090000
DTEND;TZID=Europe/Dublin:20280723T100000
DTSTAMP:20260424T173244
CREATED:20260127T153017Z
LAST-MODIFIED:20260127T153017Z
UID:10000903-1847955600-1847959200@terenureswimmingpool.ie
SUMMARY:Free Swim
DESCRIPTION:
URL:https://terenureswimmingpool.ie/timetable/free-swim/2028-07-23/
LOCATION:Terenure College Swimming Pool
END:VEVENT
BEGIN:VEVENT
DTSTART;TZID=Europe/Dublin:20280724T090000
DTEND;TZID=Europe/Dublin:20280724T100000
DTSTAMP:20260424T173244
CREATED:20260127T153017Z
LAST-MODIFIED:20260127T153017Z
UID:10000904-1848042000-1848045600@terenureswimmingpool.ie
SUMMARY:Free Swim
DESCRIPTION:
URL:https://terenureswimmingpool.ie/timetable/free-swim/2028-07-24/
LOCATION:Terenure College Swimming Pool
END:VEVENT
BEGIN:VEVENT
DTSTART;TZID=Europe/Dublin:20280725T090000
DTEND;TZID=Europe/Dublin:20280725T100000
DTSTAMP:20260424T173244
CREATED:20260127T153017Z
LAST-MODIFIED:20260127T153017Z
UID:10000905-1848128400-1848132000@terenureswimmingpool.ie
SUMMARY:Free Swim
DESCRIPTION:
URL:https://terenureswimmingpool.ie/timetable/free-swim/2028-07-25/
LOCATION:Terenure College Swimming Pool
END:VEVENT
BEGIN:VEVENT
DTSTART;TZID=Europe/Dublin:20280726T090000
DTEND;TZID=Europe/Dublin:20280726T100000
DTSTAMP:20260424T173244
CREATED:20260127T153017Z
LAST-MODIFIED:20260127T153017Z
UID:10000906-1848214800-1848218400@terenureswimmingpool.ie
SUMMARY:Free Swim
DESCRIPTION:
URL:https://terenureswimmingpool.ie/timetable/free-swim/2028-07-26/
LOCATION:Terenure College Swimming Pool
END:VEVENT
BEGIN:VEVENT
DTSTART;TZID=Europe/Dublin:20280727T090000
DTEND;TZID=Europe/Dublin:20280727T100000
DTSTAMP:20260424T173244
CREATED:20260127T153017Z
LAST-MODIFIED:20260127T153017Z
UID:10000907-1848301200-1848304800@terenureswimmingpool.ie
SUMMARY:Free Swim
DESCRIPTION:
URL:https://terenureswimmingpool.ie/timetable/free-swim/2028-07-27/
LOCATION:Terenure College Swimming Pool
END:VEVENT
BEGIN:VEVENT
DTSTART;TZID=Europe/Dublin:20280728T090000
DTEND;TZID=Europe/Dublin:20280728T100000
DTSTAMP:20260424T173244
CREATED:20260127T153017Z
LAST-MODIFIED:20260127T153017Z
UID:10000908-1848387600-1848391200@terenureswimmingpool.ie
SUMMARY:Free Swim
DESCRIPTION:
URL:https://terenureswimmingpool.ie/timetable/free-swim/2028-07-28/
LOCATION:Terenure College Swimming Pool
END:VEVENT
BEGIN:VEVENT
DTSTART;TZID=Europe/Dublin:20280729T090000
DTEND;TZID=Europe/Dublin:20280729T100000
DTSTAMP:20260424T173244
CREATED:20260127T153017Z
LAST-MODIFIED:20260127T153017Z
UID:10000909-1848474000-1848477600@terenureswimmingpool.ie
SUMMARY:Free Swim
DESCRIPTION:
URL:https://terenureswimmingpool.ie/timetable/free-swim/2028-07-29/
LOCATION:Terenure College Swimming Pool
END:VEVENT
BEGIN:VEVENT
DTSTART;TZID=Europe/Dublin:20280730T090000
DTEND;TZID=Europe/Dublin:20280730T100000
DTSTAMP:20260424T173244
CREATED:20260127T153017Z
LAST-MODIFIED:20260127T153017Z
UID:10000910-1848560400-1848564000@terenureswimmingpool.ie
SUMMARY:Free Swim
DESCRIPTION:
URL:https://terenureswimmingpool.ie/timetable/free-swim/2028-07-30/
LOCATION:Terenure College Swimming Pool
END:VEVENT
BEGIN:VEVENT
DTSTART;TZID=Europe/Dublin:20280731T090000
DTEND;TZID=Europe/Dublin:20280731T100000
DTSTAMP:20260424T173244
CREATED:20260127T153017Z
LAST-MODIFIED:20260127T153017Z
UID:10000911-1848646800-1848650400@terenureswimmingpool.ie
SUMMARY:Free Swim
DESCRIPTION:
URL:https://terenureswimmingpool.ie/timetable/free-swim/2028-07-31/
LOCATION:Terenure College Swimming Pool
END:VEVENT
BEGIN:VEVENT
DTSTART;TZID=Europe/Dublin:20280801T090000
DTEND;TZID=Europe/Dublin:20280801T100000
DTSTAMP:20260424T173244
CREATED:20260127T153017Z
LAST-MODIFIED:20260127T153017Z
UID:10000912-1848733200-1848736800@terenureswimmingpool.ie
SUMMARY:Free Swim
DESCRIPTION:
URL:https://terenureswimmingpool.ie/timetable/free-swim/2028-08-01/
LOCATION:Terenure College Swimming Pool
END:VEVENT
BEGIN:VEVENT
DTSTART;TZID=Europe/Dublin:20280802T090000
DTEND;TZID=Europe/Dublin:20280802T100000
DTSTAMP:20260424T173244
CREATED:20260127T153017Z
LAST-MODIFIED:20260127T153017Z
UID:10000913-1848819600-1848823200@terenureswimmingpool.ie
SUMMARY:Free Swim
DESCRIPTION:
URL:https://terenureswimmingpool.ie/timetable/free-swim/2028-08-02/
LOCATION:Terenure College Swimming Pool
END:VEVENT
BEGIN:VEVENT
DTSTART;TZID=Europe/Dublin:20280803T090000
DTEND;TZID=Europe/Dublin:20280803T100000
DTSTAMP:20260424T173244
CREATED:20260127T153017Z
LAST-MODIFIED:20260127T153017Z
UID:10000914-1848906000-1848909600@terenureswimmingpool.ie
SUMMARY:Free Swim
DESCRIPTION:
URL:https://terenureswimmingpool.ie/timetable/free-swim/2028-08-03/
LOCATION:Terenure College Swimming Pool
END:VEVENT
BEGIN:VEVENT
DTSTART;TZID=Europe/Dublin:20280804T090000
DTEND;TZID=Europe/Dublin:20280804T100000
DTSTAMP:20260424T173244
CREATED:20260127T153017Z
LAST-MODIFIED:20260127T153017Z
UID:10000915-1848992400-1848996000@terenureswimmingpool.ie
SUMMARY:Free Swim
DESCRIPTION:
URL:https://terenureswimmingpool.ie/timetable/free-swim/2028-08-04/
LOCATION:Terenure College Swimming Pool
END:VEVENT
BEGIN:VEVENT
DTSTART;TZID=Europe/Dublin:20280805T090000
DTEND;TZID=Europe/Dublin:20280805T100000
DTSTAMP:20260424T173244
CREATED:20260127T153017Z
LAST-MODIFIED:20260127T153017Z
UID:10000916-1849078800-1849082400@terenureswimmingpool.ie
SUMMARY:Free Swim
DESCRIPTION:
URL:https://terenureswimmingpool.ie/timetable/free-swim/2028-08-05/
LOCATION:Terenure College Swimming Pool
END:VEVENT
END:VCALENDAR