BEGIN:VCALENDAR
VERSION:2.0
PRODID:-//Terenure Swimming Pool - ECPv6.15.20//NONSGML v1.0//EN
CALSCALE:GREGORIAN
METHOD:PUBLISH
X-WR-CALNAME:Terenure Swimming Pool
X-ORIGINAL-URL:https://terenureswimmingpool.ie
X-WR-CALDESC:Events for Terenure Swimming Pool
REFRESH-INTERVAL;VALUE=DURATION:PT1H
X-Robots-Tag:noindex
X-PUBLISHED-TTL:PT1H
BEGIN:VTIMEZONE
TZID:Europe/Dublin
BEGIN:STANDARD
TZOFFSETFROM:+0000
TZOFFSETTO:+0100
TZNAME:IST
DTSTART:20270328T010000
END:STANDARD
BEGIN:DAYLIGHT
TZOFFSETFROM:+0100
TZOFFSETTO:+0000
TZNAME:GMT
DTSTART:20271031T010000
END:DAYLIGHT
BEGIN:STANDARD
TZOFFSETFROM:+0000
TZOFFSETTO:+0100
TZNAME:IST
DTSTART:20280326T010000
END:STANDARD
BEGIN:DAYLIGHT
TZOFFSETFROM:+0100
TZOFFSETTO:+0000
TZNAME:GMT
DTSTART:20281029T010000
END:DAYLIGHT
BEGIN:STANDARD
TZOFFSETFROM:+0000
TZOFFSETTO:+0100
TZNAME:IST
DTSTART:20290325T010000
END:STANDARD
BEGIN:DAYLIGHT
TZOFFSETFROM:+0100
TZOFFSETTO:+0000
TZNAME:GMT
DTSTART:20291028T010000
END:DAYLIGHT
END:VTIMEZONE
BEGIN:VEVENT
DTSTART;TZID=Europe/Dublin:20280812T090000
DTEND;TZID=Europe/Dublin:20280812T100000
DTSTAMP:20260424T212123
CREATED:20260127T153017Z
LAST-MODIFIED:20260127T153017Z
UID:10000923-1849683600-1849687200@terenureswimmingpool.ie
SUMMARY:Free Swim
DESCRIPTION:
URL:https://terenureswimmingpool.ie/timetable/free-swim/2028-08-12/
LOCATION:Terenure College Swimming Pool
END:VEVENT
BEGIN:VEVENT
DTSTART;TZID=Europe/Dublin:20280813T090000
DTEND;TZID=Europe/Dublin:20280813T100000
DTSTAMP:20260424T212123
CREATED:20260127T153017Z
LAST-MODIFIED:20260127T153017Z
UID:10000924-1849770000-1849773600@terenureswimmingpool.ie
SUMMARY:Free Swim
DESCRIPTION:
URL:https://terenureswimmingpool.ie/timetable/free-swim/2028-08-13/
LOCATION:Terenure College Swimming Pool
END:VEVENT
BEGIN:VEVENT
DTSTART;TZID=Europe/Dublin:20280814T090000
DTEND;TZID=Europe/Dublin:20280814T100000
DTSTAMP:20260424T212123
CREATED:20260127T153017Z
LAST-MODIFIED:20260127T153017Z
UID:10000925-1849856400-1849860000@terenureswimmingpool.ie
SUMMARY:Free Swim
DESCRIPTION:
URL:https://terenureswimmingpool.ie/timetable/free-swim/2028-08-14/
LOCATION:Terenure College Swimming Pool
END:VEVENT
BEGIN:VEVENT
DTSTART;TZID=Europe/Dublin:20280815T090000
DTEND;TZID=Europe/Dublin:20280815T100000
DTSTAMP:20260424T212123
CREATED:20260127T153017Z
LAST-MODIFIED:20260127T153017Z
UID:10000926-1849942800-1849946400@terenureswimmingpool.ie
SUMMARY:Free Swim
DESCRIPTION:
URL:https://terenureswimmingpool.ie/timetable/free-swim/2028-08-15/
LOCATION:Terenure College Swimming Pool
END:VEVENT
BEGIN:VEVENT
DTSTART;TZID=Europe/Dublin:20280816T090000
DTEND;TZID=Europe/Dublin:20280816T100000
DTSTAMP:20260424T212123
CREATED:20260127T153017Z
LAST-MODIFIED:20260127T153017Z
UID:10000927-1850029200-1850032800@terenureswimmingpool.ie
SUMMARY:Free Swim
DESCRIPTION:
URL:https://terenureswimmingpool.ie/timetable/free-swim/2028-08-16/
LOCATION:Terenure College Swimming Pool
END:VEVENT
BEGIN:VEVENT
DTSTART;TZID=Europe/Dublin:20280817T090000
DTEND;TZID=Europe/Dublin:20280817T100000
DTSTAMP:20260424T212123
CREATED:20260127T153017Z
LAST-MODIFIED:20260127T153017Z
UID:10000928-1850115600-1850119200@terenureswimmingpool.ie
SUMMARY:Free Swim
DESCRIPTION:
URL:https://terenureswimmingpool.ie/timetable/free-swim/2028-08-17/
LOCATION:Terenure College Swimming Pool
END:VEVENT
BEGIN:VEVENT
DTSTART;TZID=Europe/Dublin:20280818T090000
DTEND;TZID=Europe/Dublin:20280818T100000
DTSTAMP:20260424T212123
CREATED:20260127T153017Z
LAST-MODIFIED:20260127T153017Z
UID:10000929-1850202000-1850205600@terenureswimmingpool.ie
SUMMARY:Free Swim
DESCRIPTION:
URL:https://terenureswimmingpool.ie/timetable/free-swim/2028-08-18/
LOCATION:Terenure College Swimming Pool
END:VEVENT
BEGIN:VEVENT
DTSTART;TZID=Europe/Dublin:20280819T090000
DTEND;TZID=Europe/Dublin:20280819T100000
DTSTAMP:20260424T212123
CREATED:20260127T153017Z
LAST-MODIFIED:20260127T153017Z
UID:10000930-1850288400-1850292000@terenureswimmingpool.ie
SUMMARY:Free Swim
DESCRIPTION:
URL:https://terenureswimmingpool.ie/timetable/free-swim/2028-08-19/
LOCATION:Terenure College Swimming Pool
END:VEVENT
BEGIN:VEVENT
DTSTART;TZID=Europe/Dublin:20280820T090000
DTEND;TZID=Europe/Dublin:20280820T100000
DTSTAMP:20260424T212123
CREATED:20260127T153017Z
LAST-MODIFIED:20260127T153017Z
UID:10000931-1850374800-1850378400@terenureswimmingpool.ie
SUMMARY:Free Swim
DESCRIPTION:
URL:https://terenureswimmingpool.ie/timetable/free-swim/2028-08-20/
LOCATION:Terenure College Swimming Pool
END:VEVENT
BEGIN:VEVENT
DTSTART;TZID=Europe/Dublin:20280821T090000
DTEND;TZID=Europe/Dublin:20280821T100000
DTSTAMP:20260424T212123
CREATED:20260127T153017Z
LAST-MODIFIED:20260127T153017Z
UID:10000932-1850461200-1850464800@terenureswimmingpool.ie
SUMMARY:Free Swim
DESCRIPTION:
URL:https://terenureswimmingpool.ie/timetable/free-swim/2028-08-21/
LOCATION:Terenure College Swimming Pool
END:VEVENT
BEGIN:VEVENT
DTSTART;TZID=Europe/Dublin:20280822T090000
DTEND;TZID=Europe/Dublin:20280822T100000
DTSTAMP:20260424T212123
CREATED:20260127T153017Z
LAST-MODIFIED:20260127T153017Z
UID:10000933-1850547600-1850551200@terenureswimmingpool.ie
SUMMARY:Free Swim
DESCRIPTION:
URL:https://terenureswimmingpool.ie/timetable/free-swim/2028-08-22/
LOCATION:Terenure College Swimming Pool
END:VEVENT
BEGIN:VEVENT
DTSTART;TZID=Europe/Dublin:20280823T090000
DTEND;TZID=Europe/Dublin:20280823T100000
DTSTAMP:20260424T212123
CREATED:20260127T153017Z
LAST-MODIFIED:20260127T153017Z
UID:10000934-1850634000-1850637600@terenureswimmingpool.ie
SUMMARY:Free Swim
DESCRIPTION:
URL:https://terenureswimmingpool.ie/timetable/free-swim/2028-08-23/
LOCATION:Terenure College Swimming Pool
END:VEVENT
BEGIN:VEVENT
DTSTART;TZID=Europe/Dublin:20280824T090000
DTEND;TZID=Europe/Dublin:20280824T100000
DTSTAMP:20260424T212123
CREATED:20260127T153017Z
LAST-MODIFIED:20260127T153017Z
UID:10000935-1850720400-1850724000@terenureswimmingpool.ie
SUMMARY:Free Swim
DESCRIPTION:
URL:https://terenureswimmingpool.ie/timetable/free-swim/2028-08-24/
LOCATION:Terenure College Swimming Pool
END:VEVENT
BEGIN:VEVENT
DTSTART;TZID=Europe/Dublin:20280825T090000
DTEND;TZID=Europe/Dublin:20280825T100000
DTSTAMP:20260424T212123
CREATED:20260127T153017Z
LAST-MODIFIED:20260127T153017Z
UID:10000936-1850806800-1850810400@terenureswimmingpool.ie
SUMMARY:Free Swim
DESCRIPTION:
URL:https://terenureswimmingpool.ie/timetable/free-swim/2028-08-25/
LOCATION:Terenure College Swimming Pool
END:VEVENT
BEGIN:VEVENT
DTSTART;TZID=Europe/Dublin:20280826T090000
DTEND;TZID=Europe/Dublin:20280826T100000
DTSTAMP:20260424T212123
CREATED:20260127T153017Z
LAST-MODIFIED:20260127T153017Z
UID:10000937-1850893200-1850896800@terenureswimmingpool.ie
SUMMARY:Free Swim
DESCRIPTION:
URL:https://terenureswimmingpool.ie/timetable/free-swim/2028-08-26/
LOCATION:Terenure College Swimming Pool
END:VEVENT
BEGIN:VEVENT
DTSTART;TZID=Europe/Dublin:20280827T090000
DTEND;TZID=Europe/Dublin:20280827T100000
DTSTAMP:20260424T212123
CREATED:20260127T153017Z
LAST-MODIFIED:20260127T153017Z
UID:10000938-1850979600-1850983200@terenureswimmingpool.ie
SUMMARY:Free Swim
DESCRIPTION:
URL:https://terenureswimmingpool.ie/timetable/free-swim/2028-08-27/
LOCATION:Terenure College Swimming Pool
END:VEVENT
BEGIN:VEVENT
DTSTART;TZID=Europe/Dublin:20280828T090000
DTEND;TZID=Europe/Dublin:20280828T100000
DTSTAMP:20260424T212123
CREATED:20260127T153017Z
LAST-MODIFIED:20260127T153017Z
UID:10000939-1851066000-1851069600@terenureswimmingpool.ie
SUMMARY:Free Swim
DESCRIPTION:
URL:https://terenureswimmingpool.ie/timetable/free-swim/2028-08-28/
LOCATION:Terenure College Swimming Pool
END:VEVENT
BEGIN:VEVENT
DTSTART;TZID=Europe/Dublin:20280829T090000
DTEND;TZID=Europe/Dublin:20280829T100000
DTSTAMP:20260424T212123
CREATED:20260127T153017Z
LAST-MODIFIED:20260127T153017Z
UID:10000940-1851152400-1851156000@terenureswimmingpool.ie
SUMMARY:Free Swim
DESCRIPTION:
URL:https://terenureswimmingpool.ie/timetable/free-swim/2028-08-29/
LOCATION:Terenure College Swimming Pool
END:VEVENT
BEGIN:VEVENT
DTSTART;TZID=Europe/Dublin:20280830T090000
DTEND;TZID=Europe/Dublin:20280830T100000
DTSTAMP:20260424T212123
CREATED:20260127T153017Z
LAST-MODIFIED:20260127T153017Z
UID:10000941-1851238800-1851242400@terenureswimmingpool.ie
SUMMARY:Free Swim
DESCRIPTION:
URL:https://terenureswimmingpool.ie/timetable/free-swim/2028-08-30/
LOCATION:Terenure College Swimming Pool
END:VEVENT
BEGIN:VEVENT
DTSTART;TZID=Europe/Dublin:20280831T090000
DTEND;TZID=Europe/Dublin:20280831T100000
DTSTAMP:20260424T212123
CREATED:20260127T153017Z
LAST-MODIFIED:20260127T153017Z
UID:10000942-1851325200-1851328800@terenureswimmingpool.ie
SUMMARY:Free Swim
DESCRIPTION:
URL:https://terenureswimmingpool.ie/timetable/free-swim/2028-08-31/
LOCATION:Terenure College Swimming Pool
END:VEVENT
BEGIN:VEVENT
DTSTART;TZID=Europe/Dublin:20280901T090000
DTEND;TZID=Europe/Dublin:20280901T100000
DTSTAMP:20260424T212123
CREATED:20260127T153017Z
LAST-MODIFIED:20260127T153017Z
UID:10000943-1851411600-1851415200@terenureswimmingpool.ie
SUMMARY:Free Swim
DESCRIPTION:
URL:https://terenureswimmingpool.ie/timetable/free-swim/2028-09-01/
LOCATION:Terenure College Swimming Pool
END:VEVENT
BEGIN:VEVENT
DTSTART;TZID=Europe/Dublin:20280902T090000
DTEND;TZID=Europe/Dublin:20280902T100000
DTSTAMP:20260424T212123
CREATED:20260127T153017Z
LAST-MODIFIED:20260127T153017Z
UID:10000944-1851498000-1851501600@terenureswimmingpool.ie
SUMMARY:Free Swim
DESCRIPTION:
URL:https://terenureswimmingpool.ie/timetable/free-swim/2028-09-02/
LOCATION:Terenure College Swimming Pool
END:VEVENT
BEGIN:VEVENT
DTSTART;TZID=Europe/Dublin:20280903T090000
DTEND;TZID=Europe/Dublin:20280903T100000
DTSTAMP:20260424T212123
CREATED:20260127T153017Z
LAST-MODIFIED:20260127T153017Z
UID:10000945-1851584400-1851588000@terenureswimmingpool.ie
SUMMARY:Free Swim
DESCRIPTION:
URL:https://terenureswimmingpool.ie/timetable/free-swim/2028-09-03/
LOCATION:Terenure College Swimming Pool
END:VEVENT
BEGIN:VEVENT
DTSTART;TZID=Europe/Dublin:20280904T090000
DTEND;TZID=Europe/Dublin:20280904T100000
DTSTAMP:20260424T212123
CREATED:20260127T153017Z
LAST-MODIFIED:20260127T153017Z
UID:10000946-1851670800-1851674400@terenureswimmingpool.ie
SUMMARY:Free Swim
DESCRIPTION:
URL:https://terenureswimmingpool.ie/timetable/free-swim/2028-09-04/
LOCATION:Terenure College Swimming Pool
END:VEVENT
BEGIN:VEVENT
DTSTART;TZID=Europe/Dublin:20280905T090000
DTEND;TZID=Europe/Dublin:20280905T100000
DTSTAMP:20260424T212123
CREATED:20260127T153017Z
LAST-MODIFIED:20260127T153017Z
UID:10000947-1851757200-1851760800@terenureswimmingpool.ie
SUMMARY:Free Swim
DESCRIPTION:
URL:https://terenureswimmingpool.ie/timetable/free-swim/2028-09-05/
LOCATION:Terenure College Swimming Pool
END:VEVENT
BEGIN:VEVENT
DTSTART;TZID=Europe/Dublin:20280906T090000
DTEND;TZID=Europe/Dublin:20280906T100000
DTSTAMP:20260424T212123
CREATED:20260127T153017Z
LAST-MODIFIED:20260127T153017Z
UID:10000948-1851843600-1851847200@terenureswimmingpool.ie
SUMMARY:Free Swim
DESCRIPTION:
URL:https://terenureswimmingpool.ie/timetable/free-swim/2028-09-06/
LOCATION:Terenure College Swimming Pool
END:VEVENT
BEGIN:VEVENT
DTSTART;TZID=Europe/Dublin:20280907T090000
DTEND;TZID=Europe/Dublin:20280907T100000
DTSTAMP:20260424T212123
CREATED:20260127T153017Z
LAST-MODIFIED:20260127T153017Z
UID:10000949-1851930000-1851933600@terenureswimmingpool.ie
SUMMARY:Free Swim
DESCRIPTION:
URL:https://terenureswimmingpool.ie/timetable/free-swim/2028-09-07/
LOCATION:Terenure College Swimming Pool
END:VEVENT
BEGIN:VEVENT
DTSTART;TZID=Europe/Dublin:20280908T090000
DTEND;TZID=Europe/Dublin:20280908T100000
DTSTAMP:20260424T212123
CREATED:20260127T153017Z
LAST-MODIFIED:20260127T153017Z
UID:10000950-1852016400-1852020000@terenureswimmingpool.ie
SUMMARY:Free Swim
DESCRIPTION:
URL:https://terenureswimmingpool.ie/timetable/free-swim/2028-09-08/
LOCATION:Terenure College Swimming Pool
END:VEVENT
BEGIN:VEVENT
DTSTART;TZID=Europe/Dublin:20280909T090000
DTEND;TZID=Europe/Dublin:20280909T100000
DTSTAMP:20260424T212123
CREATED:20260127T153017Z
LAST-MODIFIED:20260127T153017Z
UID:10000951-1852102800-1852106400@terenureswimmingpool.ie
SUMMARY:Free Swim
DESCRIPTION:
URL:https://terenureswimmingpool.ie/timetable/free-swim/2028-09-09/
LOCATION:Terenure College Swimming Pool
END:VEVENT
BEGIN:VEVENT
DTSTART;TZID=Europe/Dublin:20280910T090000
DTEND;TZID=Europe/Dublin:20280910T100000
DTSTAMP:20260424T212123
CREATED:20260127T153017Z
LAST-MODIFIED:20260127T153017Z
UID:10000952-1852189200-1852192800@terenureswimmingpool.ie
SUMMARY:Free Swim
DESCRIPTION:
URL:https://terenureswimmingpool.ie/timetable/free-swim/2028-09-10/
LOCATION:Terenure College Swimming Pool
END:VEVENT
END:VCALENDAR