BEGIN:VCALENDAR
VERSION:2.0
PRODID:-//Terenure Swimming Pool - ECPv6.15.20//NONSGML v1.0//EN
CALSCALE:GREGORIAN
METHOD:PUBLISH
X-WR-CALNAME:Terenure Swimming Pool
X-ORIGINAL-URL:https://terenureswimmingpool.ie
X-WR-CALDESC:Events for Terenure Swimming Pool
REFRESH-INTERVAL;VALUE=DURATION:PT1H
X-Robots-Tag:noindex
X-PUBLISHED-TTL:PT1H
BEGIN:VTIMEZONE
TZID:Europe/Dublin
BEGIN:STANDARD
TZOFFSETFROM:+0000
TZOFFSETTO:+0100
TZNAME:IST
DTSTART:20280326T010000
END:STANDARD
BEGIN:DAYLIGHT
TZOFFSETFROM:+0100
TZOFFSETTO:+0000
TZNAME:GMT
DTSTART:20281029T010000
END:DAYLIGHT
BEGIN:STANDARD
TZOFFSETFROM:+0000
TZOFFSETTO:+0100
TZNAME:IST
DTSTART:20290325T010000
END:STANDARD
BEGIN:DAYLIGHT
TZOFFSETFROM:+0100
TZOFFSETTO:+0000
TZNAME:GMT
DTSTART:20291028T010000
END:DAYLIGHT
BEGIN:STANDARD
TZOFFSETFROM:+0000
TZOFFSETTO:+0100
TZNAME:IST
DTSTART:20300331T010000
END:STANDARD
BEGIN:DAYLIGHT
TZOFFSETFROM:+0100
TZOFFSETTO:+0000
TZNAME:GMT
DTSTART:20301027T010000
END:DAYLIGHT
END:VTIMEZONE
BEGIN:VEVENT
DTSTART;TZID=Europe/Dublin:20290209T090000
DTEND;TZID=Europe/Dublin:20290209T100000
DTSTAMP:20260425T164136
CREATED:20260127T153017Z
LAST-MODIFIED:20260127T153017Z
UID:10001104-1865322000-1865325600@terenureswimmingpool.ie
SUMMARY:Free Swim
DESCRIPTION:
URL:https://terenureswimmingpool.ie/timetable/free-swim/2029-02-09/
LOCATION:Terenure College Swimming Pool
END:VEVENT
BEGIN:VEVENT
DTSTART;TZID=Europe/Dublin:20290210T090000
DTEND;TZID=Europe/Dublin:20290210T100000
DTSTAMP:20260425T164136
CREATED:20260127T153017Z
LAST-MODIFIED:20260127T153017Z
UID:10001105-1865408400-1865412000@terenureswimmingpool.ie
SUMMARY:Free Swim
DESCRIPTION:
URL:https://terenureswimmingpool.ie/timetable/free-swim/2029-02-10/
LOCATION:Terenure College Swimming Pool
END:VEVENT
BEGIN:VEVENT
DTSTART;TZID=Europe/Dublin:20290211T090000
DTEND;TZID=Europe/Dublin:20290211T100000
DTSTAMP:20260425T164136
CREATED:20260127T153017Z
LAST-MODIFIED:20260127T153017Z
UID:10001106-1865494800-1865498400@terenureswimmingpool.ie
SUMMARY:Free Swim
DESCRIPTION:
URL:https://terenureswimmingpool.ie/timetable/free-swim/2029-02-11/
LOCATION:Terenure College Swimming Pool
END:VEVENT
BEGIN:VEVENT
DTSTART;TZID=Europe/Dublin:20290212T090000
DTEND;TZID=Europe/Dublin:20290212T100000
DTSTAMP:20260425T164136
CREATED:20260127T153017Z
LAST-MODIFIED:20260127T153017Z
UID:10001107-1865581200-1865584800@terenureswimmingpool.ie
SUMMARY:Free Swim
DESCRIPTION:
URL:https://terenureswimmingpool.ie/timetable/free-swim/2029-02-12/
LOCATION:Terenure College Swimming Pool
END:VEVENT
BEGIN:VEVENT
DTSTART;TZID=Europe/Dublin:20290213T090000
DTEND;TZID=Europe/Dublin:20290213T100000
DTSTAMP:20260425T164136
CREATED:20260127T153017Z
LAST-MODIFIED:20260127T153017Z
UID:10001108-1865667600-1865671200@terenureswimmingpool.ie
SUMMARY:Free Swim
DESCRIPTION:
URL:https://terenureswimmingpool.ie/timetable/free-swim/2029-02-13/
LOCATION:Terenure College Swimming Pool
END:VEVENT
BEGIN:VEVENT
DTSTART;TZID=Europe/Dublin:20290214T090000
DTEND;TZID=Europe/Dublin:20290214T100000
DTSTAMP:20260425T164136
CREATED:20260127T153017Z
LAST-MODIFIED:20260127T153017Z
UID:10001109-1865754000-1865757600@terenureswimmingpool.ie
SUMMARY:Free Swim
DESCRIPTION:
URL:https://terenureswimmingpool.ie/timetable/free-swim/2029-02-14/
LOCATION:Terenure College Swimming Pool
END:VEVENT
BEGIN:VEVENT
DTSTART;TZID=Europe/Dublin:20290215T090000
DTEND;TZID=Europe/Dublin:20290215T100000
DTSTAMP:20260425T164136
CREATED:20260127T153017Z
LAST-MODIFIED:20260127T153017Z
UID:10001110-1865840400-1865844000@terenureswimmingpool.ie
SUMMARY:Free Swim
DESCRIPTION:
URL:https://terenureswimmingpool.ie/timetable/free-swim/2029-02-15/
LOCATION:Terenure College Swimming Pool
END:VEVENT
BEGIN:VEVENT
DTSTART;TZID=Europe/Dublin:20290216T090000
DTEND;TZID=Europe/Dublin:20290216T100000
DTSTAMP:20260425T164136
CREATED:20260127T153017Z
LAST-MODIFIED:20260127T153017Z
UID:10001111-1865926800-1865930400@terenureswimmingpool.ie
SUMMARY:Free Swim
DESCRIPTION:
URL:https://terenureswimmingpool.ie/timetable/free-swim/2029-02-16/
LOCATION:Terenure College Swimming Pool
END:VEVENT
BEGIN:VEVENT
DTSTART;TZID=Europe/Dublin:20290217T090000
DTEND;TZID=Europe/Dublin:20290217T100000
DTSTAMP:20260425T164136
CREATED:20260127T153017Z
LAST-MODIFIED:20260127T153017Z
UID:10001112-1866013200-1866016800@terenureswimmingpool.ie
SUMMARY:Free Swim
DESCRIPTION:
URL:https://terenureswimmingpool.ie/timetable/free-swim/2029-02-17/
LOCATION:Terenure College Swimming Pool
END:VEVENT
BEGIN:VEVENT
DTSTART;TZID=Europe/Dublin:20290218T090000
DTEND;TZID=Europe/Dublin:20290218T100000
DTSTAMP:20260425T164136
CREATED:20260127T153017Z
LAST-MODIFIED:20260127T153017Z
UID:10001113-1866099600-1866103200@terenureswimmingpool.ie
SUMMARY:Free Swim
DESCRIPTION:
URL:https://terenureswimmingpool.ie/timetable/free-swim/2029-02-18/
LOCATION:Terenure College Swimming Pool
END:VEVENT
BEGIN:VEVENT
DTSTART;TZID=Europe/Dublin:20290219T090000
DTEND;TZID=Europe/Dublin:20290219T100000
DTSTAMP:20260425T164136
CREATED:20260127T153017Z
LAST-MODIFIED:20260127T153017Z
UID:10001114-1866186000-1866189600@terenureswimmingpool.ie
SUMMARY:Free Swim
DESCRIPTION:
URL:https://terenureswimmingpool.ie/timetable/free-swim/2029-02-19/
LOCATION:Terenure College Swimming Pool
END:VEVENT
BEGIN:VEVENT
DTSTART;TZID=Europe/Dublin:20290220T090000
DTEND;TZID=Europe/Dublin:20290220T100000
DTSTAMP:20260425T164136
CREATED:20260127T153017Z
LAST-MODIFIED:20260127T153017Z
UID:10001115-1866272400-1866276000@terenureswimmingpool.ie
SUMMARY:Free Swim
DESCRIPTION:
URL:https://terenureswimmingpool.ie/timetable/free-swim/2029-02-20/
LOCATION:Terenure College Swimming Pool
END:VEVENT
BEGIN:VEVENT
DTSTART;TZID=Europe/Dublin:20290221T090000
DTEND;TZID=Europe/Dublin:20290221T100000
DTSTAMP:20260425T164136
CREATED:20260127T153017Z
LAST-MODIFIED:20260127T153017Z
UID:10001116-1866358800-1866362400@terenureswimmingpool.ie
SUMMARY:Free Swim
DESCRIPTION:
URL:https://terenureswimmingpool.ie/timetable/free-swim/2029-02-21/
LOCATION:Terenure College Swimming Pool
END:VEVENT
BEGIN:VEVENT
DTSTART;TZID=Europe/Dublin:20290222T090000
DTEND;TZID=Europe/Dublin:20290222T100000
DTSTAMP:20260425T164136
CREATED:20260127T153017Z
LAST-MODIFIED:20260127T153017Z
UID:10001117-1866445200-1866448800@terenureswimmingpool.ie
SUMMARY:Free Swim
DESCRIPTION:
URL:https://terenureswimmingpool.ie/timetable/free-swim/2029-02-22/
LOCATION:Terenure College Swimming Pool
END:VEVENT
BEGIN:VEVENT
DTSTART;TZID=Europe/Dublin:20290223T090000
DTEND;TZID=Europe/Dublin:20290223T100000
DTSTAMP:20260425T164136
CREATED:20260127T153017Z
LAST-MODIFIED:20260127T153017Z
UID:10001118-1866531600-1866535200@terenureswimmingpool.ie
SUMMARY:Free Swim
DESCRIPTION:
URL:https://terenureswimmingpool.ie/timetable/free-swim/2029-02-23/
LOCATION:Terenure College Swimming Pool
END:VEVENT
BEGIN:VEVENT
DTSTART;TZID=Europe/Dublin:20290224T090000
DTEND;TZID=Europe/Dublin:20290224T100000
DTSTAMP:20260425T164136
CREATED:20260127T153017Z
LAST-MODIFIED:20260127T153017Z
UID:10001119-1866618000-1866621600@terenureswimmingpool.ie
SUMMARY:Free Swim
DESCRIPTION:
URL:https://terenureswimmingpool.ie/timetable/free-swim/2029-02-24/
LOCATION:Terenure College Swimming Pool
END:VEVENT
BEGIN:VEVENT
DTSTART;TZID=Europe/Dublin:20290225T090000
DTEND;TZID=Europe/Dublin:20290225T100000
DTSTAMP:20260425T164136
CREATED:20260127T153017Z
LAST-MODIFIED:20260127T153017Z
UID:10001120-1866704400-1866708000@terenureswimmingpool.ie
SUMMARY:Free Swim
DESCRIPTION:
URL:https://terenureswimmingpool.ie/timetable/free-swim/2029-02-25/
LOCATION:Terenure College Swimming Pool
END:VEVENT
BEGIN:VEVENT
DTSTART;TZID=Europe/Dublin:20290226T090000
DTEND;TZID=Europe/Dublin:20290226T100000
DTSTAMP:20260425T164136
CREATED:20260127T153017Z
LAST-MODIFIED:20260127T153017Z
UID:10001121-1866790800-1866794400@terenureswimmingpool.ie
SUMMARY:Free Swim
DESCRIPTION:
URL:https://terenureswimmingpool.ie/timetable/free-swim/2029-02-26/
LOCATION:Terenure College Swimming Pool
END:VEVENT
BEGIN:VEVENT
DTSTART;TZID=Europe/Dublin:20290227T090000
DTEND;TZID=Europe/Dublin:20290227T100000
DTSTAMP:20260425T164136
CREATED:20260127T153017Z
LAST-MODIFIED:20260127T153017Z
UID:10001122-1866877200-1866880800@terenureswimmingpool.ie
SUMMARY:Free Swim
DESCRIPTION:
URL:https://terenureswimmingpool.ie/timetable/free-swim/2029-02-27/
LOCATION:Terenure College Swimming Pool
END:VEVENT
BEGIN:VEVENT
DTSTART;TZID=Europe/Dublin:20290228T090000
DTEND;TZID=Europe/Dublin:20290228T100000
DTSTAMP:20260425T164136
CREATED:20260127T153017Z
LAST-MODIFIED:20260127T153017Z
UID:10001123-1866963600-1866967200@terenureswimmingpool.ie
SUMMARY:Free Swim
DESCRIPTION:
URL:https://terenureswimmingpool.ie/timetable/free-swim/2029-02-28/
LOCATION:Terenure College Swimming Pool
END:VEVENT
BEGIN:VEVENT
DTSTART;TZID=Europe/Dublin:20290301T090000
DTEND;TZID=Europe/Dublin:20290301T100000
DTSTAMP:20260425T164136
CREATED:20260127T153017Z
LAST-MODIFIED:20260127T153017Z
UID:10001124-1867050000-1867053600@terenureswimmingpool.ie
SUMMARY:Free Swim
DESCRIPTION:
URL:https://terenureswimmingpool.ie/timetable/free-swim/2029-03-01/
LOCATION:Terenure College Swimming Pool
END:VEVENT
BEGIN:VEVENT
DTSTART;TZID=Europe/Dublin:20290302T090000
DTEND;TZID=Europe/Dublin:20290302T100000
DTSTAMP:20260425T164136
CREATED:20260127T153017Z
LAST-MODIFIED:20260127T153017Z
UID:10001125-1867136400-1867140000@terenureswimmingpool.ie
SUMMARY:Free Swim
DESCRIPTION:
URL:https://terenureswimmingpool.ie/timetable/free-swim/2029-03-02/
LOCATION:Terenure College Swimming Pool
END:VEVENT
BEGIN:VEVENT
DTSTART;TZID=Europe/Dublin:20290303T090000
DTEND;TZID=Europe/Dublin:20290303T100000
DTSTAMP:20260425T164136
CREATED:20260127T153017Z
LAST-MODIFIED:20260127T153017Z
UID:10001126-1867222800-1867226400@terenureswimmingpool.ie
SUMMARY:Free Swim
DESCRIPTION:
URL:https://terenureswimmingpool.ie/timetable/free-swim/2029-03-03/
LOCATION:Terenure College Swimming Pool
END:VEVENT
BEGIN:VEVENT
DTSTART;TZID=Europe/Dublin:20290304T090000
DTEND;TZID=Europe/Dublin:20290304T100000
DTSTAMP:20260425T164136
CREATED:20260127T153017Z
LAST-MODIFIED:20260127T153017Z
UID:10001127-1867309200-1867312800@terenureswimmingpool.ie
SUMMARY:Free Swim
DESCRIPTION:
URL:https://terenureswimmingpool.ie/timetable/free-swim/2029-03-04/
LOCATION:Terenure College Swimming Pool
END:VEVENT
BEGIN:VEVENT
DTSTART;TZID=Europe/Dublin:20290305T090000
DTEND;TZID=Europe/Dublin:20290305T100000
DTSTAMP:20260425T164136
CREATED:20260127T153017Z
LAST-MODIFIED:20260127T153017Z
UID:10001128-1867395600-1867399200@terenureswimmingpool.ie
SUMMARY:Free Swim
DESCRIPTION:
URL:https://terenureswimmingpool.ie/timetable/free-swim/2029-03-05/
LOCATION:Terenure College Swimming Pool
END:VEVENT
BEGIN:VEVENT
DTSTART;TZID=Europe/Dublin:20290306T090000
DTEND;TZID=Europe/Dublin:20290306T100000
DTSTAMP:20260425T164136
CREATED:20260127T153017Z
LAST-MODIFIED:20260127T153017Z
UID:10001129-1867482000-1867485600@terenureswimmingpool.ie
SUMMARY:Free Swim
DESCRIPTION:
URL:https://terenureswimmingpool.ie/timetable/free-swim/2029-03-06/
LOCATION:Terenure College Swimming Pool
END:VEVENT
BEGIN:VEVENT
DTSTART;TZID=Europe/Dublin:20290307T090000
DTEND;TZID=Europe/Dublin:20290307T100000
DTSTAMP:20260425T164136
CREATED:20260127T153017Z
LAST-MODIFIED:20260127T153017Z
UID:10001130-1867568400-1867572000@terenureswimmingpool.ie
SUMMARY:Free Swim
DESCRIPTION:
URL:https://terenureswimmingpool.ie/timetable/free-swim/2029-03-07/
LOCATION:Terenure College Swimming Pool
END:VEVENT
BEGIN:VEVENT
DTSTART;TZID=Europe/Dublin:20290308T090000
DTEND;TZID=Europe/Dublin:20290308T100000
DTSTAMP:20260425T164136
CREATED:20260127T153017Z
LAST-MODIFIED:20260127T153017Z
UID:10001131-1867654800-1867658400@terenureswimmingpool.ie
SUMMARY:Free Swim
DESCRIPTION:
URL:https://terenureswimmingpool.ie/timetable/free-swim/2029-03-08/
LOCATION:Terenure College Swimming Pool
END:VEVENT
BEGIN:VEVENT
DTSTART;TZID=Europe/Dublin:20290309T090000
DTEND;TZID=Europe/Dublin:20290309T100000
DTSTAMP:20260425T164136
CREATED:20260127T153017Z
LAST-MODIFIED:20260127T153017Z
UID:10001132-1867741200-1867744800@terenureswimmingpool.ie
SUMMARY:Free Swim
DESCRIPTION:
URL:https://terenureswimmingpool.ie/timetable/free-swim/2029-03-09/
LOCATION:Terenure College Swimming Pool
END:VEVENT
BEGIN:VEVENT
DTSTART;TZID=Europe/Dublin:20290310T090000
DTEND;TZID=Europe/Dublin:20290310T100000
DTSTAMP:20260425T164136
CREATED:20260127T153017Z
LAST-MODIFIED:20260127T153017Z
UID:10001133-1867827600-1867831200@terenureswimmingpool.ie
SUMMARY:Free Swim
DESCRIPTION:
URL:https://terenureswimmingpool.ie/timetable/free-swim/2029-03-10/
LOCATION:Terenure College Swimming Pool
END:VEVENT
END:VCALENDAR