BEGIN:VCALENDAR
VERSION:2.0
PRODID:-//Terenure Swimming Pool - ECPv6.15.20//NONSGML v1.0//EN
CALSCALE:GREGORIAN
METHOD:PUBLISH
X-WR-CALNAME:Terenure Swimming Pool
X-ORIGINAL-URL:https://terenureswimmingpool.ie
X-WR-CALDESC:Events for Terenure Swimming Pool
REFRESH-INTERVAL;VALUE=DURATION:PT1H
X-Robots-Tag:noindex
X-PUBLISHED-TTL:PT1H
BEGIN:VTIMEZONE
TZID:Europe/Dublin
BEGIN:STANDARD
TZOFFSETFROM:+0000
TZOFFSETTO:+0100
TZNAME:IST
DTSTART:20280326T010000
END:STANDARD
BEGIN:DAYLIGHT
TZOFFSETFROM:+0100
TZOFFSETTO:+0000
TZNAME:GMT
DTSTART:20281029T010000
END:DAYLIGHT
BEGIN:STANDARD
TZOFFSETFROM:+0000
TZOFFSETTO:+0100
TZNAME:IST
DTSTART:20290325T010000
END:STANDARD
BEGIN:DAYLIGHT
TZOFFSETFROM:+0100
TZOFFSETTO:+0000
TZNAME:GMT
DTSTART:20291028T010000
END:DAYLIGHT
BEGIN:STANDARD
TZOFFSETFROM:+0000
TZOFFSETTO:+0100
TZNAME:IST
DTSTART:20300331T010000
END:STANDARD
BEGIN:DAYLIGHT
TZOFFSETFROM:+0100
TZOFFSETTO:+0000
TZNAME:GMT
DTSTART:20301027T010000
END:DAYLIGHT
END:VTIMEZONE
BEGIN:VEVENT
DTSTART;TZID=Europe/Dublin:20290317T090000
DTEND;TZID=Europe/Dublin:20290317T100000
DTSTAMP:20260425T202516
CREATED:20260127T153017Z
LAST-MODIFIED:20260127T153017Z
UID:10001140-1868432400-1868436000@terenureswimmingpool.ie
SUMMARY:Free Swim
DESCRIPTION:
URL:https://terenureswimmingpool.ie/timetable/free-swim/2029-03-17/
LOCATION:Terenure College Swimming Pool
END:VEVENT
BEGIN:VEVENT
DTSTART;TZID=Europe/Dublin:20290318T090000
DTEND;TZID=Europe/Dublin:20290318T100000
DTSTAMP:20260425T202516
CREATED:20260127T153017Z
LAST-MODIFIED:20260127T153017Z
UID:10001141-1868518800-1868522400@terenureswimmingpool.ie
SUMMARY:Free Swim
DESCRIPTION:
URL:https://terenureswimmingpool.ie/timetable/free-swim/2029-03-18/
LOCATION:Terenure College Swimming Pool
END:VEVENT
BEGIN:VEVENT
DTSTART;TZID=Europe/Dublin:20290319T090000
DTEND;TZID=Europe/Dublin:20290319T100000
DTSTAMP:20260425T202516
CREATED:20260127T153017Z
LAST-MODIFIED:20260127T153017Z
UID:10001142-1868605200-1868608800@terenureswimmingpool.ie
SUMMARY:Free Swim
DESCRIPTION:
URL:https://terenureswimmingpool.ie/timetable/free-swim/2029-03-19/
LOCATION:Terenure College Swimming Pool
END:VEVENT
BEGIN:VEVENT
DTSTART;TZID=Europe/Dublin:20290320T090000
DTEND;TZID=Europe/Dublin:20290320T100000
DTSTAMP:20260425T202516
CREATED:20260127T153017Z
LAST-MODIFIED:20260127T153017Z
UID:10001143-1868691600-1868695200@terenureswimmingpool.ie
SUMMARY:Free Swim
DESCRIPTION:
URL:https://terenureswimmingpool.ie/timetable/free-swim/2029-03-20/
LOCATION:Terenure College Swimming Pool
END:VEVENT
BEGIN:VEVENT
DTSTART;TZID=Europe/Dublin:20290321T090000
DTEND;TZID=Europe/Dublin:20290321T100000
DTSTAMP:20260425T202516
CREATED:20260127T153017Z
LAST-MODIFIED:20260127T153017Z
UID:10001144-1868778000-1868781600@terenureswimmingpool.ie
SUMMARY:Free Swim
DESCRIPTION:
URL:https://terenureswimmingpool.ie/timetable/free-swim/2029-03-21/
LOCATION:Terenure College Swimming Pool
END:VEVENT
BEGIN:VEVENT
DTSTART;TZID=Europe/Dublin:20290322T090000
DTEND;TZID=Europe/Dublin:20290322T100000
DTSTAMP:20260425T202516
CREATED:20260127T153017Z
LAST-MODIFIED:20260127T153017Z
UID:10001145-1868864400-1868868000@terenureswimmingpool.ie
SUMMARY:Free Swim
DESCRIPTION:
URL:https://terenureswimmingpool.ie/timetable/free-swim/2029-03-22/
LOCATION:Terenure College Swimming Pool
END:VEVENT
BEGIN:VEVENT
DTSTART;TZID=Europe/Dublin:20290323T090000
DTEND;TZID=Europe/Dublin:20290323T100000
DTSTAMP:20260425T202516
CREATED:20260127T153017Z
LAST-MODIFIED:20260127T153017Z
UID:10001146-1868950800-1868954400@terenureswimmingpool.ie
SUMMARY:Free Swim
DESCRIPTION:
URL:https://terenureswimmingpool.ie/timetable/free-swim/2029-03-23/
LOCATION:Terenure College Swimming Pool
END:VEVENT
BEGIN:VEVENT
DTSTART;TZID=Europe/Dublin:20290324T090000
DTEND;TZID=Europe/Dublin:20290324T100000
DTSTAMP:20260425T202516
CREATED:20260127T153017Z
LAST-MODIFIED:20260127T153017Z
UID:10001147-1869037200-1869040800@terenureswimmingpool.ie
SUMMARY:Free Swim
DESCRIPTION:
URL:https://terenureswimmingpool.ie/timetable/free-swim/2029-03-24/
LOCATION:Terenure College Swimming Pool
END:VEVENT
BEGIN:VEVENT
DTSTART;TZID=Europe/Dublin:20290325T090000
DTEND;TZID=Europe/Dublin:20290325T100000
DTSTAMP:20260425T202516
CREATED:20260127T153017Z
LAST-MODIFIED:20260127T153017Z
UID:10001148-1869123600-1869127200@terenureswimmingpool.ie
SUMMARY:Free Swim
DESCRIPTION:
URL:https://terenureswimmingpool.ie/timetable/free-swim/2029-03-25/
LOCATION:Terenure College Swimming Pool
END:VEVENT
BEGIN:VEVENT
DTSTART;TZID=Europe/Dublin:20290326T090000
DTEND;TZID=Europe/Dublin:20290326T100000
DTSTAMP:20260425T202516
CREATED:20260127T153017Z
LAST-MODIFIED:20260127T153017Z
UID:10001149-1869210000-1869213600@terenureswimmingpool.ie
SUMMARY:Free Swim
DESCRIPTION:
URL:https://terenureswimmingpool.ie/timetable/free-swim/2029-03-26/
LOCATION:Terenure College Swimming Pool
END:VEVENT
BEGIN:VEVENT
DTSTART;TZID=Europe/Dublin:20290327T090000
DTEND;TZID=Europe/Dublin:20290327T100000
DTSTAMP:20260425T202516
CREATED:20260127T153017Z
LAST-MODIFIED:20260127T153017Z
UID:10001150-1869296400-1869300000@terenureswimmingpool.ie
SUMMARY:Free Swim
DESCRIPTION:
URL:https://terenureswimmingpool.ie/timetable/free-swim/2029-03-27/
LOCATION:Terenure College Swimming Pool
END:VEVENT
BEGIN:VEVENT
DTSTART;TZID=Europe/Dublin:20290328T090000
DTEND;TZID=Europe/Dublin:20290328T100000
DTSTAMP:20260425T202516
CREATED:20260127T153017Z
LAST-MODIFIED:20260127T153017Z
UID:10001151-1869382800-1869386400@terenureswimmingpool.ie
SUMMARY:Free Swim
DESCRIPTION:
URL:https://terenureswimmingpool.ie/timetable/free-swim/2029-03-28/
LOCATION:Terenure College Swimming Pool
END:VEVENT
BEGIN:VEVENT
DTSTART;TZID=Europe/Dublin:20290329T090000
DTEND;TZID=Europe/Dublin:20290329T100000
DTSTAMP:20260425T202516
CREATED:20260127T153017Z
LAST-MODIFIED:20260127T153017Z
UID:10001152-1869469200-1869472800@terenureswimmingpool.ie
SUMMARY:Free Swim
DESCRIPTION:
URL:https://terenureswimmingpool.ie/timetable/free-swim/2029-03-29/
LOCATION:Terenure College Swimming Pool
END:VEVENT
BEGIN:VEVENT
DTSTART;TZID=Europe/Dublin:20290330T090000
DTEND;TZID=Europe/Dublin:20290330T100000
DTSTAMP:20260425T202516
CREATED:20260127T153017Z
LAST-MODIFIED:20260127T153017Z
UID:10001153-1869555600-1869559200@terenureswimmingpool.ie
SUMMARY:Free Swim
DESCRIPTION:
URL:https://terenureswimmingpool.ie/timetable/free-swim/2029-03-30/
LOCATION:Terenure College Swimming Pool
END:VEVENT
BEGIN:VEVENT
DTSTART;TZID=Europe/Dublin:20290331T090000
DTEND;TZID=Europe/Dublin:20290331T100000
DTSTAMP:20260425T202516
CREATED:20260127T153017Z
LAST-MODIFIED:20260127T153017Z
UID:10001154-1869642000-1869645600@terenureswimmingpool.ie
SUMMARY:Free Swim
DESCRIPTION:
URL:https://terenureswimmingpool.ie/timetable/free-swim/2029-03-31/
LOCATION:Terenure College Swimming Pool
END:VEVENT
BEGIN:VEVENT
DTSTART;TZID=Europe/Dublin:20290401T090000
DTEND;TZID=Europe/Dublin:20290401T100000
DTSTAMP:20260425T202516
CREATED:20260127T153017Z
LAST-MODIFIED:20260127T153017Z
UID:10001155-1869728400-1869732000@terenureswimmingpool.ie
SUMMARY:Free Swim
DESCRIPTION:
URL:https://terenureswimmingpool.ie/timetable/free-swim/2029-04-01/
LOCATION:Terenure College Swimming Pool
END:VEVENT
BEGIN:VEVENT
DTSTART;TZID=Europe/Dublin:20290402T090000
DTEND;TZID=Europe/Dublin:20290402T100000
DTSTAMP:20260425T202516
CREATED:20260127T153017Z
LAST-MODIFIED:20260127T153017Z
UID:10001156-1869814800-1869818400@terenureswimmingpool.ie
SUMMARY:Free Swim
DESCRIPTION:
URL:https://terenureswimmingpool.ie/timetable/free-swim/2029-04-02/
LOCATION:Terenure College Swimming Pool
END:VEVENT
BEGIN:VEVENT
DTSTART;TZID=Europe/Dublin:20290403T090000
DTEND;TZID=Europe/Dublin:20290403T100000
DTSTAMP:20260425T202516
CREATED:20260127T153017Z
LAST-MODIFIED:20260127T153017Z
UID:10001157-1869901200-1869904800@terenureswimmingpool.ie
SUMMARY:Free Swim
DESCRIPTION:
URL:https://terenureswimmingpool.ie/timetable/free-swim/2029-04-03/
LOCATION:Terenure College Swimming Pool
END:VEVENT
BEGIN:VEVENT
DTSTART;TZID=Europe/Dublin:20290404T090000
DTEND;TZID=Europe/Dublin:20290404T100000
DTSTAMP:20260425T202516
CREATED:20260127T153017Z
LAST-MODIFIED:20260127T153017Z
UID:10001158-1869987600-1869991200@terenureswimmingpool.ie
SUMMARY:Free Swim
DESCRIPTION:
URL:https://terenureswimmingpool.ie/timetable/free-swim/2029-04-04/
LOCATION:Terenure College Swimming Pool
END:VEVENT
BEGIN:VEVENT
DTSTART;TZID=Europe/Dublin:20290405T090000
DTEND;TZID=Europe/Dublin:20290405T100000
DTSTAMP:20260425T202516
CREATED:20260127T153017Z
LAST-MODIFIED:20260127T153017Z
UID:10001159-1870074000-1870077600@terenureswimmingpool.ie
SUMMARY:Free Swim
DESCRIPTION:
URL:https://terenureswimmingpool.ie/timetable/free-swim/2029-04-05/
LOCATION:Terenure College Swimming Pool
END:VEVENT
BEGIN:VEVENT
DTSTART;TZID=Europe/Dublin:20290406T090000
DTEND;TZID=Europe/Dublin:20290406T100000
DTSTAMP:20260425T202516
CREATED:20260127T153017Z
LAST-MODIFIED:20260127T153017Z
UID:10001160-1870160400-1870164000@terenureswimmingpool.ie
SUMMARY:Free Swim
DESCRIPTION:
URL:https://terenureswimmingpool.ie/timetable/free-swim/2029-04-06/
LOCATION:Terenure College Swimming Pool
END:VEVENT
BEGIN:VEVENT
DTSTART;TZID=Europe/Dublin:20290407T090000
DTEND;TZID=Europe/Dublin:20290407T100000
DTSTAMP:20260425T202516
CREATED:20260127T153017Z
LAST-MODIFIED:20260127T153017Z
UID:10001161-1870246800-1870250400@terenureswimmingpool.ie
SUMMARY:Free Swim
DESCRIPTION:
URL:https://terenureswimmingpool.ie/timetable/free-swim/2029-04-07/
LOCATION:Terenure College Swimming Pool
END:VEVENT
BEGIN:VEVENT
DTSTART;TZID=Europe/Dublin:20290408T090000
DTEND;TZID=Europe/Dublin:20290408T100000
DTSTAMP:20260425T202516
CREATED:20260127T153017Z
LAST-MODIFIED:20260127T153017Z
UID:10001162-1870333200-1870336800@terenureswimmingpool.ie
SUMMARY:Free Swim
DESCRIPTION:
URL:https://terenureswimmingpool.ie/timetable/free-swim/2029-04-08/
LOCATION:Terenure College Swimming Pool
END:VEVENT
BEGIN:VEVENT
DTSTART;TZID=Europe/Dublin:20290409T090000
DTEND;TZID=Europe/Dublin:20290409T100000
DTSTAMP:20260425T202516
CREATED:20260127T153017Z
LAST-MODIFIED:20260127T153017Z
UID:10001163-1870419600-1870423200@terenureswimmingpool.ie
SUMMARY:Free Swim
DESCRIPTION:
URL:https://terenureswimmingpool.ie/timetable/free-swim/2029-04-09/
LOCATION:Terenure College Swimming Pool
END:VEVENT
BEGIN:VEVENT
DTSTART;TZID=Europe/Dublin:20290410T090000
DTEND;TZID=Europe/Dublin:20290410T100000
DTSTAMP:20260425T202516
CREATED:20260127T153017Z
LAST-MODIFIED:20260127T153017Z
UID:10001164-1870506000-1870509600@terenureswimmingpool.ie
SUMMARY:Free Swim
DESCRIPTION:
URL:https://terenureswimmingpool.ie/timetable/free-swim/2029-04-10/
LOCATION:Terenure College Swimming Pool
END:VEVENT
BEGIN:VEVENT
DTSTART;TZID=Europe/Dublin:20290411T090000
DTEND;TZID=Europe/Dublin:20290411T100000
DTSTAMP:20260425T202516
CREATED:20260127T153017Z
LAST-MODIFIED:20260127T153017Z
UID:10001165-1870592400-1870596000@terenureswimmingpool.ie
SUMMARY:Free Swim
DESCRIPTION:
URL:https://terenureswimmingpool.ie/timetable/free-swim/2029-04-11/
LOCATION:Terenure College Swimming Pool
END:VEVENT
BEGIN:VEVENT
DTSTART;TZID=Europe/Dublin:20290412T090000
DTEND;TZID=Europe/Dublin:20290412T100000
DTSTAMP:20260425T202516
CREATED:20260127T153017Z
LAST-MODIFIED:20260127T153017Z
UID:10001166-1870678800-1870682400@terenureswimmingpool.ie
SUMMARY:Free Swim
DESCRIPTION:
URL:https://terenureswimmingpool.ie/timetable/free-swim/2029-04-12/
LOCATION:Terenure College Swimming Pool
END:VEVENT
BEGIN:VEVENT
DTSTART;TZID=Europe/Dublin:20290413T090000
DTEND;TZID=Europe/Dublin:20290413T100000
DTSTAMP:20260425T202516
CREATED:20260127T153017Z
LAST-MODIFIED:20260127T153017Z
UID:10001167-1870765200-1870768800@terenureswimmingpool.ie
SUMMARY:Free Swim
DESCRIPTION:
URL:https://terenureswimmingpool.ie/timetable/free-swim/2029-04-13/
LOCATION:Terenure College Swimming Pool
END:VEVENT
BEGIN:VEVENT
DTSTART;TZID=Europe/Dublin:20290414T090000
DTEND;TZID=Europe/Dublin:20290414T100000
DTSTAMP:20260425T202516
CREATED:20260127T153017Z
LAST-MODIFIED:20260127T153017Z
UID:10001168-1870851600-1870855200@terenureswimmingpool.ie
SUMMARY:Free Swim
DESCRIPTION:
URL:https://terenureswimmingpool.ie/timetable/free-swim/2029-04-14/
LOCATION:Terenure College Swimming Pool
END:VEVENT
BEGIN:VEVENT
DTSTART;TZID=Europe/Dublin:20290415T090000
DTEND;TZID=Europe/Dublin:20290415T100000
DTSTAMP:20260425T202516
CREATED:20260127T153017Z
LAST-MODIFIED:20260127T153017Z
UID:10001169-1870938000-1870941600@terenureswimmingpool.ie
SUMMARY:Free Swim
DESCRIPTION:
URL:https://terenureswimmingpool.ie/timetable/free-swim/2029-04-15/
LOCATION:Terenure College Swimming Pool
END:VEVENT
END:VCALENDAR