BEGIN:VCALENDAR
VERSION:2.0
PRODID:-//Terenure Swimming Pool - ECPv6.15.20//NONSGML v1.0//EN
CALSCALE:GREGORIAN
METHOD:PUBLISH
X-ORIGINAL-URL:https://terenureswimmingpool.ie
X-WR-CALDESC:Events for Terenure Swimming Pool
REFRESH-INTERVAL;VALUE=DURATION:PT1H
X-Robots-Tag:noindex
X-PUBLISHED-TTL:PT1H
BEGIN:VTIMEZONE
TZID:Europe/Dublin
BEGIN:STANDARD
TZOFFSETFROM:+0000
TZOFFSETTO:+0100
TZNAME:IST
DTSTART:20280326T010000
END:STANDARD
BEGIN:DAYLIGHT
TZOFFSETFROM:+0100
TZOFFSETTO:+0000
TZNAME:GMT
DTSTART:20281029T010000
END:DAYLIGHT
BEGIN:STANDARD
TZOFFSETFROM:+0000
TZOFFSETTO:+0100
TZNAME:IST
DTSTART:20290325T010000
END:STANDARD
BEGIN:DAYLIGHT
TZOFFSETFROM:+0100
TZOFFSETTO:+0000
TZNAME:GMT
DTSTART:20291028T010000
END:DAYLIGHT
BEGIN:STANDARD
TZOFFSETFROM:+0000
TZOFFSETTO:+0100
TZNAME:IST
DTSTART:20300331T010000
END:STANDARD
BEGIN:DAYLIGHT
TZOFFSETFROM:+0100
TZOFFSETTO:+0000
TZNAME:GMT
DTSTART:20301027T010000
END:DAYLIGHT
END:VTIMEZONE
BEGIN:VEVENT
DTSTART;TZID=Europe/Dublin:20290609T090000
DTEND;TZID=Europe/Dublin:20290609T100000
DTSTAMP:20260426T051958
CREATED:20260127T153017Z
LAST-MODIFIED:20260127T153017Z
UID:10001224-1875690000-1875693600@terenureswimmingpool.ie
SUMMARY:Free Swim
DESCRIPTION:
URL:https://terenureswimmingpool.ie/timetable/free-swim/2029-06-09/
LOCATION:Terenure College Swimming Pool
END:VEVENT
BEGIN:VEVENT
DTSTART;TZID=Europe/Dublin:20290610T090000
DTEND;TZID=Europe/Dublin:20290610T100000
DTSTAMP:20260426T051958
CREATED:20260127T153017Z
LAST-MODIFIED:20260127T153017Z
UID:10001225-1875776400-1875780000@terenureswimmingpool.ie
SUMMARY:Free Swim
DESCRIPTION:
URL:https://terenureswimmingpool.ie/timetable/free-swim/2029-06-10/
LOCATION:Terenure College Swimming Pool
END:VEVENT
BEGIN:VEVENT
DTSTART;TZID=Europe/Dublin:20290611T090000
DTEND;TZID=Europe/Dublin:20290611T100000
DTSTAMP:20260426T051958
CREATED:20260127T153017Z
LAST-MODIFIED:20260127T153017Z
UID:10001226-1875862800-1875866400@terenureswimmingpool.ie
SUMMARY:Free Swim
DESCRIPTION:
URL:https://terenureswimmingpool.ie/timetable/free-swim/2029-06-11/
LOCATION:Terenure College Swimming Pool
END:VEVENT
BEGIN:VEVENT
DTSTART;TZID=Europe/Dublin:20290612T090000
DTEND;TZID=Europe/Dublin:20290612T100000
DTSTAMP:20260426T051958
CREATED:20260127T153017Z
LAST-MODIFIED:20260127T153017Z
UID:10001227-1875949200-1875952800@terenureswimmingpool.ie
SUMMARY:Free Swim
DESCRIPTION:
URL:https://terenureswimmingpool.ie/timetable/free-swim/2029-06-12/
LOCATION:Terenure College Swimming Pool
END:VEVENT
BEGIN:VEVENT
DTSTART;TZID=Europe/Dublin:20290613T090000
DTEND;TZID=Europe/Dublin:20290613T100000
DTSTAMP:20260426T051958
CREATED:20260127T153017Z
LAST-MODIFIED:20260127T153017Z
UID:10001228-1876035600-1876039200@terenureswimmingpool.ie
SUMMARY:Free Swim
DESCRIPTION:
URL:https://terenureswimmingpool.ie/timetable/free-swim/2029-06-13/
LOCATION:Terenure College Swimming Pool
END:VEVENT
BEGIN:VEVENT
DTSTART;TZID=Europe/Dublin:20290614T090000
DTEND;TZID=Europe/Dublin:20290614T100000
DTSTAMP:20260426T051958
CREATED:20260127T153017Z
LAST-MODIFIED:20260127T153017Z
UID:10001229-1876122000-1876125600@terenureswimmingpool.ie
SUMMARY:Free Swim
DESCRIPTION:
URL:https://terenureswimmingpool.ie/timetable/free-swim/2029-06-14/
LOCATION:Terenure College Swimming Pool
END:VEVENT
BEGIN:VEVENT
DTSTART;TZID=Europe/Dublin:20290615T090000
DTEND;TZID=Europe/Dublin:20290615T100000
DTSTAMP:20260426T051958
CREATED:20260127T153017Z
LAST-MODIFIED:20260127T153017Z
UID:10001230-1876208400-1876212000@terenureswimmingpool.ie
SUMMARY:Free Swim
DESCRIPTION:
URL:https://terenureswimmingpool.ie/timetable/free-swim/2029-06-15/
LOCATION:Terenure College Swimming Pool
END:VEVENT
BEGIN:VEVENT
DTSTART;TZID=Europe/Dublin:20290616T090000
DTEND;TZID=Europe/Dublin:20290616T100000
DTSTAMP:20260426T051958
CREATED:20260127T153017Z
LAST-MODIFIED:20260127T153017Z
UID:10001231-1876294800-1876298400@terenureswimmingpool.ie
SUMMARY:Free Swim
DESCRIPTION:
URL:https://terenureswimmingpool.ie/timetable/free-swim/2029-06-16/
LOCATION:Terenure College Swimming Pool
END:VEVENT
BEGIN:VEVENT
DTSTART;TZID=Europe/Dublin:20290617T090000
DTEND;TZID=Europe/Dublin:20290617T100000
DTSTAMP:20260426T051958
CREATED:20260127T153017Z
LAST-MODIFIED:20260127T153017Z
UID:10001232-1876381200-1876384800@terenureswimmingpool.ie
SUMMARY:Free Swim
DESCRIPTION:
URL:https://terenureswimmingpool.ie/timetable/free-swim/2029-06-17/
LOCATION:Terenure College Swimming Pool
END:VEVENT
BEGIN:VEVENT
DTSTART;TZID=Europe/Dublin:20290618T090000
DTEND;TZID=Europe/Dublin:20290618T100000
DTSTAMP:20260426T051958
CREATED:20260127T153017Z
LAST-MODIFIED:20260127T153017Z
UID:10001233-1876467600-1876471200@terenureswimmingpool.ie
SUMMARY:Free Swim
DESCRIPTION:
URL:https://terenureswimmingpool.ie/timetable/free-swim/2029-06-18/
LOCATION:Terenure College Swimming Pool
END:VEVENT
BEGIN:VEVENT
DTSTART;TZID=Europe/Dublin:20290619T090000
DTEND;TZID=Europe/Dublin:20290619T100000
DTSTAMP:20260426T051958
CREATED:20260127T153017Z
LAST-MODIFIED:20260127T153017Z
UID:10001234-1876554000-1876557600@terenureswimmingpool.ie
SUMMARY:Free Swim
DESCRIPTION:
URL:https://terenureswimmingpool.ie/timetable/free-swim/2029-06-19/
LOCATION:Terenure College Swimming Pool
END:VEVENT
BEGIN:VEVENT
DTSTART;TZID=Europe/Dublin:20290620T090000
DTEND;TZID=Europe/Dublin:20290620T100000
DTSTAMP:20260426T051958
CREATED:20260127T153017Z
LAST-MODIFIED:20260127T153017Z
UID:10001235-1876640400-1876644000@terenureswimmingpool.ie
SUMMARY:Free Swim
DESCRIPTION:
URL:https://terenureswimmingpool.ie/timetable/free-swim/2029-06-20/
LOCATION:Terenure College Swimming Pool
END:VEVENT
BEGIN:VEVENT
DTSTART;TZID=Europe/Dublin:20290621T090000
DTEND;TZID=Europe/Dublin:20290621T100000
DTSTAMP:20260426T051958
CREATED:20260127T153017Z
LAST-MODIFIED:20260127T153017Z
UID:10001236-1876726800-1876730400@terenureswimmingpool.ie
SUMMARY:Free Swim
DESCRIPTION:
URL:https://terenureswimmingpool.ie/timetable/free-swim/2029-06-21/
LOCATION:Terenure College Swimming Pool
END:VEVENT
BEGIN:VEVENT
DTSTART;TZID=Europe/Dublin:20290622T090000
DTEND;TZID=Europe/Dublin:20290622T100000
DTSTAMP:20260426T051958
CREATED:20260127T153017Z
LAST-MODIFIED:20260127T153017Z
UID:10001237-1876813200-1876816800@terenureswimmingpool.ie
SUMMARY:Free Swim
DESCRIPTION:
URL:https://terenureswimmingpool.ie/timetable/free-swim/2029-06-22/
LOCATION:Terenure College Swimming Pool
END:VEVENT
BEGIN:VEVENT
DTSTART;TZID=Europe/Dublin:20290623T090000
DTEND;TZID=Europe/Dublin:20290623T100000
DTSTAMP:20260426T051958
CREATED:20260127T153017Z
LAST-MODIFIED:20260127T153017Z
UID:10001238-1876899600-1876903200@terenureswimmingpool.ie
SUMMARY:Free Swim
DESCRIPTION:
URL:https://terenureswimmingpool.ie/timetable/free-swim/2029-06-23/
LOCATION:Terenure College Swimming Pool
END:VEVENT
BEGIN:VEVENT
DTSTART;TZID=Europe/Dublin:20290624T090000
DTEND;TZID=Europe/Dublin:20290624T100000
DTSTAMP:20260426T051958
CREATED:20260127T153017Z
LAST-MODIFIED:20260127T153017Z
UID:10001239-1876986000-1876989600@terenureswimmingpool.ie
SUMMARY:Free Swim
DESCRIPTION:
URL:https://terenureswimmingpool.ie/timetable/free-swim/2029-06-24/
LOCATION:Terenure College Swimming Pool
END:VEVENT
BEGIN:VEVENT
DTSTART;TZID=Europe/Dublin:20290625T090000
DTEND;TZID=Europe/Dublin:20290625T100000
DTSTAMP:20260426T051958
CREATED:20260127T153017Z
LAST-MODIFIED:20260127T153017Z
UID:10001240-1877072400-1877076000@terenureswimmingpool.ie
SUMMARY:Free Swim
DESCRIPTION:
URL:https://terenureswimmingpool.ie/timetable/free-swim/2029-06-25/
LOCATION:Terenure College Swimming Pool
END:VEVENT
BEGIN:VEVENT
DTSTART;TZID=Europe/Dublin:20290626T090000
DTEND;TZID=Europe/Dublin:20290626T100000
DTSTAMP:20260426T051958
CREATED:20260127T153017Z
LAST-MODIFIED:20260127T153017Z
UID:10001241-1877158800-1877162400@terenureswimmingpool.ie
SUMMARY:Free Swim
DESCRIPTION:
URL:https://terenureswimmingpool.ie/timetable/free-swim/2029-06-26/
LOCATION:Terenure College Swimming Pool
END:VEVENT
BEGIN:VEVENT
DTSTART;TZID=Europe/Dublin:20290627T090000
DTEND;TZID=Europe/Dublin:20290627T100000
DTSTAMP:20260426T051958
CREATED:20260127T153017Z
LAST-MODIFIED:20260127T153017Z
UID:10001242-1877245200-1877248800@terenureswimmingpool.ie
SUMMARY:Free Swim
DESCRIPTION:
URL:https://terenureswimmingpool.ie/timetable/free-swim/2029-06-27/
LOCATION:Terenure College Swimming Pool
END:VEVENT
BEGIN:VEVENT
DTSTART;TZID=Europe/Dublin:20290628T090000
DTEND;TZID=Europe/Dublin:20290628T100000
DTSTAMP:20260426T051958
CREATED:20260127T153017Z
LAST-MODIFIED:20260127T153017Z
UID:10001243-1877331600-1877335200@terenureswimmingpool.ie
SUMMARY:Free Swim
DESCRIPTION:
URL:https://terenureswimmingpool.ie/timetable/free-swim/2029-06-28/
LOCATION:Terenure College Swimming Pool
END:VEVENT
BEGIN:VEVENT
DTSTART;TZID=Europe/Dublin:20290629T090000
DTEND;TZID=Europe/Dublin:20290629T100000
DTSTAMP:20260426T051958
CREATED:20260127T153017Z
LAST-MODIFIED:20260127T153017Z
UID:10001244-1877418000-1877421600@terenureswimmingpool.ie
SUMMARY:Free Swim
DESCRIPTION:
URL:https://terenureswimmingpool.ie/timetable/free-swim/2029-06-29/
LOCATION:Terenure College Swimming Pool
END:VEVENT
BEGIN:VEVENT
DTSTART;TZID=Europe/Dublin:20290630T090000
DTEND;TZID=Europe/Dublin:20290630T100000
DTSTAMP:20260426T051958
CREATED:20260127T153017Z
LAST-MODIFIED:20260127T153017Z
UID:10001245-1877504400-1877508000@terenureswimmingpool.ie
SUMMARY:Free Swim
DESCRIPTION:
URL:https://terenureswimmingpool.ie/timetable/free-swim/2029-06-30/
LOCATION:Terenure College Swimming Pool
END:VEVENT
BEGIN:VEVENT
DTSTART;TZID=Europe/Dublin:20290701T090000
DTEND;TZID=Europe/Dublin:20290701T100000
DTSTAMP:20260426T051958
CREATED:20260127T153017Z
LAST-MODIFIED:20260127T153017Z
UID:10001246-1877590800-1877594400@terenureswimmingpool.ie
SUMMARY:Free Swim
DESCRIPTION:
URL:https://terenureswimmingpool.ie/timetable/free-swim/2029-07-01/
LOCATION:Terenure College Swimming Pool
END:VEVENT
BEGIN:VEVENT
DTSTART;TZID=Europe/Dublin:20290702T090000
DTEND;TZID=Europe/Dublin:20290702T100000
DTSTAMP:20260426T051958
CREATED:20260127T153017Z
LAST-MODIFIED:20260127T153017Z
UID:10001247-1877677200-1877680800@terenureswimmingpool.ie
SUMMARY:Free Swim
DESCRIPTION:
URL:https://terenureswimmingpool.ie/timetable/free-swim/2029-07-02/
LOCATION:Terenure College Swimming Pool
END:VEVENT
BEGIN:VEVENT
DTSTART;TZID=Europe/Dublin:20290703T090000
DTEND;TZID=Europe/Dublin:20290703T100000
DTSTAMP:20260426T051958
CREATED:20260127T153017Z
LAST-MODIFIED:20260127T153017Z
UID:10001248-1877763600-1877767200@terenureswimmingpool.ie
SUMMARY:Free Swim
DESCRIPTION:
URL:https://terenureswimmingpool.ie/timetable/free-swim/2029-07-03/
LOCATION:Terenure College Swimming Pool
END:VEVENT
BEGIN:VEVENT
DTSTART;TZID=Europe/Dublin:20290704T090000
DTEND;TZID=Europe/Dublin:20290704T100000
DTSTAMP:20260426T051958
CREATED:20260127T153017Z
LAST-MODIFIED:20260127T153017Z
UID:10001249-1877850000-1877853600@terenureswimmingpool.ie
SUMMARY:Free Swim
DESCRIPTION:
URL:https://terenureswimmingpool.ie/timetable/free-swim/2029-07-04/
LOCATION:Terenure College Swimming Pool
END:VEVENT
BEGIN:VEVENT
DTSTART;TZID=Europe/Dublin:20290705T090000
DTEND;TZID=Europe/Dublin:20290705T100000
DTSTAMP:20260426T051958
CREATED:20260127T153017Z
LAST-MODIFIED:20260127T153017Z
UID:10001250-1877936400-1877940000@terenureswimmingpool.ie
SUMMARY:Free Swim
DESCRIPTION:
URL:https://terenureswimmingpool.ie/timetable/free-swim/2029-07-05/
LOCATION:Terenure College Swimming Pool
END:VEVENT
BEGIN:VEVENT
DTSTART;TZID=Europe/Dublin:20290706T090000
DTEND;TZID=Europe/Dublin:20290706T100000
DTSTAMP:20260426T051958
CREATED:20260127T153017Z
LAST-MODIFIED:20260127T153017Z
UID:10001251-1878022800-1878026400@terenureswimmingpool.ie
SUMMARY:Free Swim
DESCRIPTION:
URL:https://terenureswimmingpool.ie/timetable/free-swim/2029-07-06/
LOCATION:Terenure College Swimming Pool
END:VEVENT
BEGIN:VEVENT
DTSTART;TZID=Europe/Dublin:20290707T090000
DTEND;TZID=Europe/Dublin:20290707T100000
DTSTAMP:20260426T051958
CREATED:20260127T153017Z
LAST-MODIFIED:20260127T153017Z
UID:10001252-1878109200-1878112800@terenureswimmingpool.ie
SUMMARY:Free Swim
DESCRIPTION:
URL:https://terenureswimmingpool.ie/timetable/free-swim/2029-07-07/
LOCATION:Terenure College Swimming Pool
END:VEVENT
BEGIN:VEVENT
DTSTART;TZID=Europe/Dublin:20290708T090000
DTEND;TZID=Europe/Dublin:20290708T100000
DTSTAMP:20260426T051958
CREATED:20260127T153017Z
LAST-MODIFIED:20260127T153017Z
UID:10001253-1878195600-1878199200@terenureswimmingpool.ie
SUMMARY:Free Swim
DESCRIPTION:
URL:https://terenureswimmingpool.ie/timetable/free-swim/2029-07-08/
LOCATION:Terenure College Swimming Pool
END:VEVENT
END:VCALENDAR